BEGIN:VCALENDAR
VERSION:2.0
PRODID:-//Association Sportive de Tire de Tracteurs du Québec - ECPv6.15.15//NONSGML v1.0//EN
CALSCALE:GREGORIAN
METHOD:PUBLISH
X-WR-CALNAME:Association Sportive de Tire de Tracteurs du Québec
X-ORIGINAL-URL:https://asttq.net/en/
X-WR-CALDESC:Events for Association Sportive de Tire de Tracteurs du Québec
REFRESH-INTERVAL;VALUE=DURATION:PT1H
X-Robots-Tag:noindex
X-PUBLISHED-TTL:PT1H
BEGIN:VTIMEZONE
TZID:America/Toronto
BEGIN:DAYLIGHT
TZOFFSETFROM:-0500
TZOFFSETTO:-0400
TZNAME:EDT
DTSTART:20230312T070000
END:DAYLIGHT
BEGIN:STANDARD
TZOFFSETFROM:-0400
TZOFFSETTO:-0500
TZNAME:EST
DTSTART:20231105T060000
END:STANDARD
BEGIN:DAYLIGHT
TZOFFSETFROM:-0500
TZOFFSETTO:-0400
TZNAME:EDT
DTSTART:20240310T070000
END:DAYLIGHT
BEGIN:STANDARD
TZOFFSETFROM:-0400
TZOFFSETTO:-0500
TZNAME:EST
DTSTART:20241103T060000
END:STANDARD
BEGIN:DAYLIGHT
TZOFFSETFROM:-0500
TZOFFSETTO:-0400
TZNAME:EDT
DTSTART:20250309T070000
END:DAYLIGHT
BEGIN:STANDARD
TZOFFSETFROM:-0400
TZOFFSETTO:-0500
TZNAME:EST
DTSTART:20251102T060000
END:STANDARD
END:VTIMEZONE
BEGIN:VEVENT
DTSTART;TZID=America/Toronto:20240802T153000
DTEND;TZID=America/Toronto:20240802T153000
DTSTAMP:20260419T122355
CREATED:20240226T234537Z
LAST-MODIFIED:20240312T004523Z
UID:69394-1722612600-1722612600@asttq.net
SUMMARY:PEI Truck and Tractor Pull - Crapaud 2024 (Vendredi)
DESCRIPTION:Location de machine de transfert Iron Man seulement  – Iron Man sled rental only.
URL:https://asttq.net/en/event/pei-truck-and-tractor-pull-crapaud-2023-samedi-2/
LOCATION:CRAPAUD\, IPÉ\, 20591 Rte Transcanadienne\, Crapaud\, Ile-du-Prince-Édouard\, C0A 1J0\, Canada
END:VEVENT
BEGIN:VEVENT
DTSTART;TZID=America/Toronto:20240802T190000
DTEND;TZID=America/Toronto:20240802T190000
DTSTAMP:20260419T122355
CREATED:20240226T232619Z
LAST-MODIFIED:20240705T150840Z
UID:69389-1722625200-1722625200@asttq.net
SUMMARY:Expo Vallée de la Coaticook 2024 (Vendredi)
DESCRIPTION:DÉPLACER SUR LE TERRAIN DE RICHMOND – MOVED TO RICHMOND FAIR GROUND
URL:https://asttq.net/en/event/expo-vallee-de-la-coaticook-2023-samedi-2/
LOCATION:RICHMOND\, QC\, 128 Québec 143\, Cleveland\, Québec\, Canada
ATTACH;FMTTYPE=image/png:https://asttq.net/wp-content/uploads/2023/03/box_logo.png
END:VEVENT
BEGIN:VEVENT
DTSTART;TZID=America/Toronto:20240803T153000
DTEND;TZID=America/Toronto:20240803T153000
DTSTAMP:20260419T122355
CREATED:20240226T234637Z
LAST-MODIFIED:20240312T004517Z
UID:69396-1722699000-1722699000@asttq.net
SUMMARY:PEI Truck and Tractor Pull - Crapaud 2024 (Samedi)
DESCRIPTION:Location de machine de transfert Iron Man seulement  – Iron Man sled rental only.
URL:https://asttq.net/en/event/pei-truck-and-tractor-pull-crapaud-2023-samedi-2-2/
LOCATION:CRAPAUD\, IPÉ\, 20591 Rte Transcanadienne\, Crapaud\, Ile-du-Prince-Édouard\, C0A 1J0\, Canada
END:VEVENT
BEGIN:VEVENT
DTSTART;TZID=America/Toronto:20240803T190000
DTEND;TZID=America/Toronto:20240803T190000
DTSTAMP:20260419T122355
CREATED:20240226T234329Z
LAST-MODIFIED:20240705T150607Z
UID:69392-1722711600-1722711600@asttq.net
SUMMARY:Expo Vallée de la Coaticook 2024 (Samedi)
DESCRIPTION:DÉPLACER SUR LE TERRAIN DE RICHMOND – MOVED TO RICHMOND FAIR GROUND
URL:https://asttq.net/en/event/expo-vallee-de-la-coaticook-2023-samedi-2-2/
LOCATION:RICHMOND\, QC\, 128 Québec 143\, Cleveland\, Québec\, Canada
ATTACH;FMTTYPE=image/png:https://asttq.net/wp-content/uploads/2023/03/box_logo.png
END:VEVENT
BEGIN:VEVENT
DTSTART;TZID=America/Toronto:20240809T183000
DTEND;TZID=America/Toronto:20240809T183000
DTSTAMP:20260419T122355
CREATED:20240328T142120Z
LAST-MODIFIED:20240409T185148Z
UID:71225-1723228200-1723228200@asttq.net
SUMMARY:Foire de Huntingdon 2024 (Vendredi)
DESCRIPTION:
URL:https://asttq.net/en/event/foire-de-huntingdon-2024/
LOCATION:HUNTINGDON\, QC\, 1565 Chemin Fairview\, Huntingdon\, Québec\, J0S 1H0\, Canada
ATTACH;FMTTYPE=image/png:https://asttq.net/wp-content/uploads/2017/05/fair-logo2016-175px.png
END:VEVENT
BEGIN:VEVENT
DTSTART;TZID=America/Toronto:20240810T180000
DTEND;TZID=America/Toronto:20240810T183000
DTSTAMP:20260419T122355
CREATED:20240328T142307Z
LAST-MODIFIED:20240409T185412Z
UID:71227-1723312800-1723314600@asttq.net
SUMMARY:Foire de Huntingdon 2024 (Samedi)
DESCRIPTION:
URL:https://asttq.net/en/event/foire-de-huntingdon-2024-2/
LOCATION:HUNTINGDON\, QC\, 1565 Chemin Fairview\, Huntingdon\, Québec\, J0S 1H0\, Canada
ATTACH;FMTTYPE=image/png:https://asttq.net/wp-content/uploads/2017/05/fair-logo2016-175px.png
END:VEVENT
BEGIN:VEVENT
DTSTART;TZID=America/Toronto:20240816T190000
DTEND;TZID=America/Toronto:20240816T190000
DTSTAMP:20260419T122355
CREATED:20240226T235155Z
LAST-MODIFIED:20240407T211156Z
UID:69398-1723834800-1723834800@asttq.net
SUMMARY:Expo Cookshire 2024 (Vendredi)
DESCRIPTION:
URL:https://asttq.net/en/event/expo-cookshire-2023-samedi-2/
LOCATION:COOKSHIRE\, QC\, 580 QC-108\, Cookshire-Eaton\, Québec\, J0B 1M0\, Canada
ATTACH;FMTTYPE=image/png:https://asttq.net/wp-content/uploads/2017/05/logocookshirerond190x125.png
END:VEVENT
BEGIN:VEVENT
DTSTART;TZID=America/Toronto:20240817T110000
DTEND;TZID=America/Toronto:20240817T110000
DTSTAMP:20260419T122355
CREATED:20240328T142912Z
LAST-MODIFIED:20240409T185816Z
UID:71235-1723892400-1723892400@asttq.net
SUMMARY:Tire Ste-Séraphine 2024
DESCRIPTION:Location Stress relief – Stress relief loan
URL:https://asttq.net/en/event/tire-ste-seraphine-2024/
LOCATION:STE-SÉRAPHINE\, QC\, Sainte-Séraphine\, Sainte-Séraphine\, QC\, J0A 1E0\, Canada
ATTACH;FMTTYPE=image/jpeg:https://asttq.net/wp-content/uploads/2023/03/275062051_102491805733064_5708757983083457494_n.jpg
END:VEVENT
BEGIN:VEVENT
DTSTART;TZID=America/Toronto:20240817T190000
DTEND;TZID=America/Toronto:20240817T190000
DTSTAMP:20260419T122355
CREATED:20240226T235615Z
LAST-MODIFIED:20240409T154416Z
UID:69400-1723921200-1723921200@asttq.net
SUMMARY:Expo Cookshire 2024 (Samedi)
DESCRIPTION:
URL:https://asttq.net/en/event/expo-cookshire-2023-samedi-2-2/
LOCATION:COOKSHIRE\, QC\, 580 QC-108\, Cookshire-Eaton\, Québec\, J0B 1M0\, Canada
ATTACH;FMTTYPE=image/png:https://asttq.net/wp-content/uploads/2017/05/logocookshirerond190x125.png
END:VEVENT
BEGIN:VEVENT
DTSTART;TZID=America/Toronto:20240824T120000
DTEND;TZID=America/Toronto:20240824T120000
DTSTAMP:20260419T122355
CREATED:20240411T122802Z
LAST-MODIFIED:20240411T122856Z
UID:71620-1724500800-1724500800@asttq.net
SUMMARY:Truck’N Roll en Coeur 2024
DESCRIPTION:
URL:https://asttq.net/en/event/truckn-roll-en-coeur-2024/
LOCATION:BEDFORD\, QC\, 16 Rue Philippe Côté\, Bedford\, Québec\, J0J 1A0\, Canada
ATTACH;FMTTYPE=image/png:https://asttq.net/wp-content/uploads/2017/05/trucknroll-logo.png
END:VEVENT
BEGIN:VEVENT
DTSTART;TZID=America/Toronto:20240825T183000
DTEND;TZID=America/Toronto:20240825T183000
DTSTAMP:20260419T122355
CREATED:20240328T143238Z
LAST-MODIFIED:20240409T190936Z
UID:71237-1724610600-1724610600@asttq.net
SUMMARY:Expo Ayer’s Cliff 2024
DESCRIPTION:
URL:https://asttq.net/en/event/expo-ayers-cliff-2024/
LOCATION:AYER’S CLIFF\, QC\, 977 Rue Main\, Ayer's Cliff\, Québec\, J0B 1C0\, Canada
ATTACH;FMTTYPE=image/jpeg:https://asttq.net/wp-content/uploads/2017/05/fond_menu_entete.jpg
END:VEVENT
BEGIN:VEVENT
DTSTART;TZID=America/Toronto:20240831T160000
DTEND;TZID=America/Toronto:20240831T160000
DTSTAMP:20260419T122355
CREATED:20240423T212637Z
LAST-MODIFIED:20240423T213151Z
UID:71729-1725120000-1725120000@asttq.net
SUMMARY:Antigonish Truck & Tractor Pull (Saturday)
DESCRIPTION:Location d’équipement – Sled rental
URL:https://asttq.net/en/event/antigonish-truck-tractor-pull/
LOCATION:Antigonish\, 50 market st\, Antigonish\, NS\, B2G 3B4\, Canada
END:VEVENT
BEGIN:VEVENT
DTSTART;TZID=America/Toronto:20240831T190000
DTEND;TZID=America/Toronto:20240831T190000
DTSTAMP:20260419T122355
CREATED:20240409T191247Z
LAST-MODIFIED:20240409T191247Z
UID:71581-1725130800-1725130800@asttq.net
SUMMARY:Expo Brome 2024
DESCRIPTION:
URL:https://asttq.net/en/event/expo-brome-2024/
LOCATION:BROME\, QC\, 345 Chemin Stagecoach\, Knowlton\, Québec\, J0E 1V0\, Canada
END:VEVENT
END:VCALENDAR