BEGIN:VCALENDAR
VERSION:2.0
PRODID:-//Association Sportive de Tire de Tracteurs du Québec - ECPv6.15.15//NONSGML v1.0//EN
CALSCALE:GREGORIAN
METHOD:PUBLISH
X-WR-CALNAME:Association Sportive de Tire de Tracteurs du Québec
X-ORIGINAL-URL:https://asttq.net/en/
X-WR-CALDESC:Events for Association Sportive de Tire de Tracteurs du Québec
REFRESH-INTERVAL;VALUE=DURATION:PT1H
X-Robots-Tag:noindex
X-PUBLISHED-TTL:PT1H
BEGIN:VTIMEZONE
TZID:America/Toronto
BEGIN:DAYLIGHT
TZOFFSETFROM:-0500
TZOFFSETTO:-0400
TZNAME:EDT
DTSTART:20230312T070000
END:DAYLIGHT
BEGIN:STANDARD
TZOFFSETFROM:-0400
TZOFFSETTO:-0500
TZNAME:EST
DTSTART:20231105T060000
END:STANDARD
BEGIN:DAYLIGHT
TZOFFSETFROM:-0500
TZOFFSETTO:-0400
TZNAME:EDT
DTSTART:20240310T070000
END:DAYLIGHT
BEGIN:STANDARD
TZOFFSETFROM:-0400
TZOFFSETTO:-0500
TZNAME:EST
DTSTART:20241103T060000
END:STANDARD
BEGIN:DAYLIGHT
TZOFFSETFROM:-0500
TZOFFSETTO:-0400
TZNAME:EDT
DTSTART:20250309T070000
END:DAYLIGHT
BEGIN:STANDARD
TZOFFSETFROM:-0400
TZOFFSETTO:-0500
TZNAME:EST
DTSTART:20251102T060000
END:STANDARD
END:VTIMEZONE
BEGIN:VEVENT
DTSTART;TZID=America/Toronto:20240705T193000
DTEND;TZID=America/Toronto:20240705T193000
DTSTAMP:20260419T110304
CREATED:20240407T222456Z
LAST-MODIFIED:20240423T205900Z
UID:69371-1720207800-1720207800@asttq.net
SUMMARY:St-Agapit 2024 (Friday)
DESCRIPTION:
URL:https://asttq.net/en/event/expo-de-lotbiniere-2017-2/
LOCATION:ST-AGAPIT\, QC\, 1070 avenue Bergeron\, Saint-Agapit\, Québec\, G0S 1Z0\, Canada
END:VEVENT
BEGIN:VEVENT
DTSTART;TZID=America/Toronto:20240706T190000
DTEND;TZID=America/Toronto:20240706T190000
DTSTAMP:20260419T110304
CREATED:20240407T223935Z
LAST-MODIFIED:20240423T205752Z
UID:69375-1720292400-1720292400@asttq.net
SUMMARY:Saint-Agapit 2024 (Saturday)
DESCRIPTION:
URL:https://asttq.net/en/event/expo-de-lotbiniere-2017-3/
LOCATION:ST-AGAPIT\, QC\, 1070 avenue Bergeron\, Saint-Agapit\, Québec\, G0S 1Z0\, Canada
END:VEVENT
BEGIN:VEVENT
DTSTART;TZID=America/Toronto:20240713T190000
DTEND;TZID=America/Toronto:20240713T190000
DTSTAMP:20260419T110304
CREATED:20240226T230828Z
LAST-MODIFIED:20240409T181923Z
UID:69377-1720897200-1720897200@asttq.net
SUMMARY:Festival de Honfleur\, Bellechasse 2024
DESCRIPTION:Remis au 14 en cas de pluie
URL:https://asttq.net/en/event/festival-de-honfleur-bellechasse-2023-2/
LOCATION:HONFLEUR\, QC\, 320 Rue Saint-Jean\, Honfleur\, Québec\, G0R 1N0\, Canada
ATTACH;FMTTYPE=image/jpeg:https://asttq.net/wp-content/uploads/2017/05/9261173.jpg
END:VEVENT
BEGIN:VEVENT
DTSTART;TZID=America/Toronto:20240719T190000
DTEND;TZID=America/Toronto:20240719T190000
DTSTAMP:20260419T110304
CREATED:20240226T231222Z
LAST-MODIFIED:20240409T182240Z
UID:69379-1721415600-1721415600@asttq.net
SUMMARY:Expo St-Isidore 2024 (Vendredi)
DESCRIPTION:
URL:https://asttq.net/en/event/expo-st-isidore-2023-samedi-2-2-2/
LOCATION:ST-ISIDORE-DE-BEAUCE\, QC\, 130 route Coulombe\, Saint-Isidore\, Québec\, GS2S0\, Canada
ATTACH;FMTTYPE=image/jpeg:https://asttq.net/wp-content/uploads/2017/05/10177930_232527250287185_3367822556484615112_n.jpg
END:VEVENT
BEGIN:VEVENT
DTSTART;TZID=America/Toronto:20240720T183000
DTEND;TZID=America/Toronto:20240720T190000
DTSTAMP:20260419T110304
CREATED:20240226T231903Z
LAST-MODIFIED:20240409T182659Z
UID:69383-1721500200-1721502000@asttq.net
SUMMARY:Expo St-Isidore 2024 (Samedi)
DESCRIPTION:Remis à dimanche 16h
URL:https://asttq.net/en/event/expo-st-isidore-2023-samedi-2-2-2-2/
LOCATION:ST-ISIDORE-DE-BEAUCE\, QC\, 130 route Coulombe\, Saint-Isidore\, Québec\, GS2S0\, Canada
ATTACH;FMTTYPE=image/jpeg:https://asttq.net/wp-content/uploads/2017/05/10177930_232527250287185_3367822556484615112_n.jpg
END:VEVENT
BEGIN:VEVENT
DTSTART;TZID=America/Toronto:20240726T180000
DTEND;TZID=America/Toronto:20240726T180000
DTSTAMP:20260419T110304
CREATED:20240226T232307Z
LAST-MODIFIED:20240423T205223Z
UID:69385-1722016800-1722016800@asttq.net
SUMMARY:Expo St-Hyacinthe 2024 (Vendredi)
DESCRIPTION:
URL:https://asttq.net/en/event/expo-st-hyacinthe-2023-samedi-2/
LOCATION:SAINT-HYACINTHE\, QC\, 2670\, avenue Beauparlant\, Saint-Hyacinthe\, Québec\, J2S 4M8\, Canada
ATTACH;FMTTYPE=image/png:https://asttq.net/wp-content/uploads/2017/05/expo-agricole-logo.png
END:VEVENT
BEGIN:VEVENT
DTSTART;TZID=America/Toronto:20240727T180000
DTEND;TZID=America/Toronto:20240727T180000
DTSTAMP:20260419T110304
CREATED:20240226T232412Z
LAST-MODIFIED:20240423T204854Z
UID:69387-1722103200-1722103200@asttq.net
SUMMARY:Expo St-Hyacinthe 2024 (Samedi)
DESCRIPTION:
URL:https://asttq.net/en/event/expo-st-hyacinthe-2023-samedi-2-2/
LOCATION:SAINT-HYACINTHE\, QC\, 2670\, avenue Beauparlant\, Saint-Hyacinthe\, Québec\, J2S 4M8\, Canada
ATTACH;FMTTYPE=image/png:https://asttq.net/wp-content/uploads/2017/05/expo-agricole-logo.png
END:VEVENT
END:VCALENDAR