BEGIN:VCALENDAR
VERSION:2.0
PRODID:-//Association Sportive de Tire de Tracteurs du Québec - ECPv6.15.15//NONSGML v1.0//EN
CALSCALE:GREGORIAN
METHOD:PUBLISH
X-ORIGINAL-URL:https://asttq.net/en/
X-WR-CALDESC:Events for Association Sportive de Tire de Tracteurs du Québec
REFRESH-INTERVAL;VALUE=DURATION:PT1H
X-Robots-Tag:noindex
X-PUBLISHED-TTL:PT1H
BEGIN:VTIMEZONE
TZID:America/Toronto
BEGIN:DAYLIGHT
TZOFFSETFROM:-0500
TZOFFSETTO:-0400
TZNAME:EDT
DTSTART:20210314T070000
END:DAYLIGHT
BEGIN:STANDARD
TZOFFSETFROM:-0400
TZOFFSETTO:-0500
TZNAME:EST
DTSTART:20211107T060000
END:STANDARD
BEGIN:DAYLIGHT
TZOFFSETFROM:-0500
TZOFFSETTO:-0400
TZNAME:EDT
DTSTART:20220313T070000
END:DAYLIGHT
BEGIN:STANDARD
TZOFFSETFROM:-0400
TZOFFSETTO:-0500
TZNAME:EST
DTSTART:20221106T060000
END:STANDARD
BEGIN:DAYLIGHT
TZOFFSETFROM:-0500
TZOFFSETTO:-0400
TZNAME:EDT
DTSTART:20230312T070000
END:DAYLIGHT
BEGIN:STANDARD
TZOFFSETFROM:-0400
TZOFFSETTO:-0500
TZNAME:EST
DTSTART:20231105T060000
END:STANDARD
END:VTIMEZONE
BEGIN:VEVENT
DTSTART;TZID=America/Toronto:20220903T190000
DTEND;TZID=America/Toronto:20220903T190000
DTSTAMP:20260420T145412
CREATED:20211123T230502Z
LAST-MODIFIED:20220422T011519Z
UID:36098-1662231600-1662231600@asttq.net
SUMMARY:Expo de Brome 2022
DESCRIPTION:
URL:https://asttq.net/en/event/expo-de-brome-2022/
LOCATION:BROME\, QC\, 345 Chemin Stagecoach\, Knowlton\, Québec\, J0E 1V0\, Canada
ATTACH;FMTTYPE=image/png:https://asttq.net/wp-content/uploads/2017/05/bromefair-logo33.png
END:VEVENT
BEGIN:VEVENT
DTSTART;TZID=America/Toronto:20220910T130000
DTEND;TZID=America/Toronto:20220910T130000
DTSTAMP:20260420T145412
CREATED:20211123T230102Z
LAST-MODIFIED:20220824T003400Z
UID:36124-1662814800-1662814800@asttq.net
SUMMARY:Expo Richmond 2022 (samedi pm)
DESCRIPTION:
URL:https://asttq.net/en/?post_type=tribe_events&p=36125
LOCATION:RICHMOND\, QC\, 128 Québec 143\, Cleveland\, Québec\, Canada
ATTACH;FMTTYPE=image/jpeg:https://asttq.net/wp-content/uploads/2017/05/titleonlyinjpgexport.jpg
END:VEVENT
BEGIN:VEVENT
DTSTART;TZID=America/Toronto:20220910T183000
DTEND;TZID=America/Toronto:20220910T183000
DTSTAMP:20260420T145412
CREATED:20220412T014711Z
LAST-MODIFIED:20220824T003643Z
UID:49094-1662834600-1662834600@asttq.net
SUMMARY:Expo Richmond 2022 (samedi soir)
DESCRIPTION:
URL:https://asttq.net/en/?post_type=tribe_events&p=49095
LOCATION:RICHMOND\, QC\, 128 Québec 143\, Cleveland\, Québec\, Canada
ATTACH;FMTTYPE=image/jpeg:https://asttq.net/wp-content/uploads/2017/05/titleonlyinjpgexport.jpg
END:VEVENT
BEGIN:VEVENT
DTSTART;TZID=America/Toronto:20220911T130000
DTEND;TZID=America/Toronto:20220911T130000
DTSTAMP:20260420T145412
CREATED:20211123T225813Z
LAST-MODIFIED:20220412T014236Z
UID:36127-1662901200-1662901200@asttq.net
SUMMARY:Expo Richmond 2022
DESCRIPTION:
URL:https://asttq.net/en/?post_type=tribe_events&p=36128
LOCATION:RICHMOND\, QC\, 128 Québec 143\, Cleveland\, Québec\, Canada
ATTACH;FMTTYPE=image/jpeg:https://asttq.net/wp-content/uploads/2017/05/titleonlyinjpgexport.jpg
END:VEVENT
END:VCALENDAR