BEGIN:VCALENDAR
VERSION:2.0
PRODID:-//Association Sportive de Tire de Tracteurs du Québec - ECPv6.15.15//NONSGML v1.0//EN
CALSCALE:GREGORIAN
METHOD:PUBLISH
X-ORIGINAL-URL:https://asttq.net/en/
X-WR-CALDESC:Events for Association Sportive de Tire de Tracteurs du Québec
REFRESH-INTERVAL;VALUE=DURATION:PT1H
X-Robots-Tag:noindex
X-PUBLISHED-TTL:PT1H
BEGIN:VTIMEZONE
TZID:America/Toronto
BEGIN:DAYLIGHT
TZOFFSETFROM:-0500
TZOFFSETTO:-0400
TZNAME:EDT
DTSTART:20200308T070000
END:DAYLIGHT
BEGIN:STANDARD
TZOFFSETFROM:-0400
TZOFFSETTO:-0500
TZNAME:EST
DTSTART:20201101T060000
END:STANDARD
BEGIN:DAYLIGHT
TZOFFSETFROM:-0500
TZOFFSETTO:-0400
TZNAME:EDT
DTSTART:20210314T070000
END:DAYLIGHT
BEGIN:STANDARD
TZOFFSETFROM:-0400
TZOFFSETTO:-0500
TZNAME:EST
DTSTART:20211107T060000
END:STANDARD
BEGIN:DAYLIGHT
TZOFFSETFROM:-0500
TZOFFSETTO:-0400
TZNAME:EDT
DTSTART:20220313T070000
END:DAYLIGHT
BEGIN:STANDARD
TZOFFSETFROM:-0400
TZOFFSETTO:-0500
TZNAME:EST
DTSTART:20221106T060000
END:STANDARD
END:VTIMEZONE
BEGIN:VEVENT
DTSTART;TZID=America/Toronto:20210702T183000
DTEND;TZID=America/Toronto:20210702T183000
DTSTAMP:20260421T115916
CREATED:20210223T221904Z
LAST-MODIFIED:20210603T135607Z
UID:25762-1625250600-1625250600@asttq.net
SUMMARY:Terrain d'exposition de Saint-Agapit 2021 (vendredi)
DESCRIPTION:Toutes les classes sont non sanctionnées – All classes unsanctioned
URL:https://asttq.net/en/?post_type=tribe_events&p=25763
LOCATION:ST-AGAPIT\, QC\, 1070 avenue Bergeron\, Saint-Agapit\, Québec\, G0S 1Z0\, Canada
END:VEVENT
BEGIN:VEVENT
DTSTART;TZID=America/Toronto:20210703T183000
DTEND;TZID=America/Toronto:20210703T183000
DTSTAMP:20260421T115916
CREATED:20210223T222015Z
LAST-MODIFIED:20210603T135740Z
UID:25759-1625337000-1625337000@asttq.net
SUMMARY:Terrain d'exposition de Saint-Agapit 2021
DESCRIPTION:Toutes les classes sont non sanctionnées – All classes unsanctioned
URL:https://asttq.net/en/?post_type=tribe_events&p=25760
LOCATION:ST-AGAPIT\, QC\, 1070 avenue Bergeron\, Saint-Agapit\, Québec\, G0S 1Z0\, Canada
END:VEVENT
BEGIN:VEVENT
DTSTART;TZID=America/Toronto:20210710T000000
DTEND;TZID=America/Toronto:20210710T000000
DTSTAMP:20260421T115916
CREATED:20210223T222153Z
LAST-MODIFIED:20210419T001426Z
UID:25781-1625875200-1625875200@asttq.net
SUMMARY:Festival de Honfleur\, Bellechasse 2021
DESCRIPTION:Événement annulé et remis à l’an prochain (2022) / Event is cancelled and postponed to next year (2022)
URL:https://asttq.net/en/event/festival-de-honfleur-bellechasse-2021/
LOCATION:HONFLEUR\, QC\, 320 Rue Saint-Jean\, Honfleur\, Québec\, G0R 1N0\, Canada
ATTACH;FMTTYPE=image/jpeg:https://asttq.net/wp-content/uploads/2017/05/9261173.jpg
END:VEVENT
BEGIN:VEVENT
DTSTART;TZID=America/Toronto:20210716T193000
DTEND;TZID=America/Toronto:20210716T193000
DTSTAMP:20260421T115916
CREATED:20210223T222429Z
LAST-MODIFIED:20210607T190845Z
UID:25792-1626463800-1626463800@asttq.net
SUMMARY:Expo St-Isidore 2021 (Vendredi)
DESCRIPTION:Toutes les classes sont non sanctionnées – All classes unsanctioned \ Remis au dimanche (13h30) en cas de pluie – Postponed to Sunday (1:30pm) if rainout
URL:https://asttq.net/en/event/expo-st-isidore-2021-vendredi/
LOCATION:ST-ISIDORE-DE-BEAUCE\, QC\, 130 route Coulombe\, Saint-Isidore\, Québec\, GS2S0\, Canada
ATTACH;FMTTYPE=image/jpeg:https://asttq.net/wp-content/uploads/2017/05/10177930_232527250287185_3367822556484615112_n.jpg
END:VEVENT
BEGIN:VEVENT
DTSTART;TZID=America/Toronto:20210717T183000
DTEND;TZID=America/Toronto:20210717T183000
DTSTAMP:20260421T115917
CREATED:20210223T222520Z
LAST-MODIFIED:20210607T190807Z
UID:25790-1626546600-1626546600@asttq.net
SUMMARY:Expo St-Isidore 2021 (Samedi)
DESCRIPTION:Toutes les classes sont non sanctionnées – All classes unsanctioned \ Remis au dimanche (13h30) en cas de pluie – Postponed to Sunday (1:30pm) if rainout
URL:https://asttq.net/en/event/expo-st-isidore-2021-samedi/
LOCATION:ST-ISIDORE-DE-BEAUCE\, QC\, 130 route Coulombe\, Saint-Isidore\, Québec\, GS2S0\, Canada
ATTACH;FMTTYPE=image/jpeg:https://asttq.net/wp-content/uploads/2017/05/10177930_232527250287185_3367822556484615112_n.jpg
END:VEVENT
BEGIN:VEVENT
DTSTART;TZID=America/Toronto:20210726T000000
DTEND;TZID=America/Toronto:20210726T000000
DTSTAMP:20260421T115917
CREATED:20210223T222604Z
LAST-MODIFIED:20210621T104652Z
UID:25820-1627257600-1627257600@asttq.net
SUMMARY:Expo St-Hyacinthe 2021 (Lundi)
DESCRIPTION:Reportée à une date ultérieure en 2021 ou 2022 – Postponed later in 2021 or 2022
URL:https://asttq.net/en/event/expo-st-hyacinthe-2019-lundi-2-2/
LOCATION:SAINT-HYACINTHE\, QC\, 2670\, avenue Beauparlant\, Saint-Hyacinthe\, Québec\, J2S 4M8\, Canada
ATTACH;FMTTYPE=image/png:https://asttq.net/wp-content/uploads/2017/05/expo-agricole-logo.png
END:VEVENT
BEGIN:VEVENT
DTSTART;TZID=America/Toronto:20210727T000000
DTEND;TZID=America/Toronto:20210727T000000
DTSTAMP:20260421T115917
CREATED:20210223T222707Z
LAST-MODIFIED:20210621T104600Z
UID:25829-1627344000-1627344000@asttq.net
SUMMARY:Expo St-Hyacinthe 2021 (Mardi)
DESCRIPTION:Reportée à une date ultérieure en 2021 ou 2022 – Postponed later in 2021 or 2022
URL:https://asttq.net/en/event/expo-st-hyacinthe-2021-mardi/
LOCATION:SAINT-HYACINTHE\, QC\, 2670\, avenue Beauparlant\, Saint-Hyacinthe\, Québec\, J2S 4M8\, Canada
ATTACH;FMTTYPE=image/png:https://asttq.net/wp-content/uploads/2017/05/expo-agricole-logo.png
END:VEVENT
BEGIN:VEVENT
DTSTART;TZID=America/Toronto:20210728T000000
DTEND;TZID=America/Toronto:20210728T000000
DTSTAMP:20260421T115917
CREATED:20210223T222835Z
LAST-MODIFIED:20210621T104449Z
UID:25838-1627430400-1627430400@asttq.net
SUMMARY:Expo St-Hyacinthe 2021 (Mercredi)
DESCRIPTION:Reportée à une date ultérieure en 2021 ou 2022 – Postponed later in 2021 or 2022
URL:https://asttq.net/en/event/expo-st-hyacinthe-2021-mercredi/
LOCATION:SAINT-HYACINTHE\, QC\, 2670\, avenue Beauparlant\, Saint-Hyacinthe\, Québec\, J2S 4M8\, Canada
ATTACH;FMTTYPE=image/png:https://asttq.net/wp-content/uploads/2017/05/expo-agricole-logo.png
END:VEVENT
BEGIN:VEVENT
DTSTART;TZID=America/Toronto:20210731T000000
DTEND;TZID=America/Toronto:20210731T000000
DTSTAMP:20260421T115917
CREATED:20210223T223014Z
LAST-MODIFIED:20210330T201630Z
UID:25848-1627689600-1627689600@asttq.net
SUMMARY:Saint-Théophile 2021
DESCRIPTION:Annulé \ cancelled
URL:https://asttq.net/en/event/saint-theophile-2021/
LOCATION:SAINT-THÉOPHILE\, QC\, QC-173 et QC-269\, Saint-Théophile\, Québec\, g0m2a0\, Canada
END:VEVENT
END:VCALENDAR