BEGIN:VCALENDAR
VERSION:2.0
PRODID:-//Association Sportive de Tire de Tracteurs du Québec - ECPv6.15.15//NONSGML v1.0//EN
CALSCALE:GREGORIAN
METHOD:PUBLISH
X-WR-CALNAME:Association Sportive de Tire de Tracteurs du Québec
X-ORIGINAL-URL:https://asttq.net/en/
X-WR-CALDESC:Events for Association Sportive de Tire de Tracteurs du Québec
REFRESH-INTERVAL;VALUE=DURATION:PT1H
X-Robots-Tag:noindex
X-PUBLISHED-TTL:PT1H
BEGIN:VTIMEZONE
TZID:America/Toronto
BEGIN:DAYLIGHT
TZOFFSETFROM:-0500
TZOFFSETTO:-0400
TZNAME:EDT
DTSTART:20200308T070000
END:DAYLIGHT
BEGIN:STANDARD
TZOFFSETFROM:-0400
TZOFFSETTO:-0500
TZNAME:EST
DTSTART:20201101T060000
END:STANDARD
BEGIN:DAYLIGHT
TZOFFSETFROM:-0500
TZOFFSETTO:-0400
TZNAME:EDT
DTSTART:20210314T070000
END:DAYLIGHT
BEGIN:STANDARD
TZOFFSETFROM:-0400
TZOFFSETTO:-0500
TZNAME:EST
DTSTART:20211107T060000
END:STANDARD
BEGIN:DAYLIGHT
TZOFFSETFROM:-0500
TZOFFSETTO:-0400
TZNAME:EDT
DTSTART:20220313T070000
END:DAYLIGHT
BEGIN:STANDARD
TZOFFSETFROM:-0400
TZOFFSETTO:-0500
TZNAME:EST
DTSTART:20221106T060000
END:STANDARD
END:VTIMEZONE
BEGIN:VEVENT
DTSTART;TZID=America/Toronto:20210612T000000
DTEND;TZID=America/Toronto:20210612T000000
DTSTAMP:20260421T132429
CREATED:20210223T221207Z
LAST-MODIFIED:20210712T203517Z
UID:25731-1623456000-1623456000@asttq.net
SUMMARY:Expo Ormstown 2021
DESCRIPTION:Reportée à une date ultérieure en 2021 ou 2022 – Postponed later in 2021 or 2022
URL:https://asttq.net/en/event/expo-ormstown-2021/
LOCATION:ORMSTOWN\, QC\, 1 Rue McBain\, Ormstown\, Québec\, J0S 1K0\, Canada
ATTACH;FMTTYPE=image/png:https://asttq.net/wp-content/uploads/2017/05/expoormstowndesjardins.png
END:VEVENT
BEGIN:VEVENT
DTSTART;TZID=America/Toronto:20210619T000000
DTEND;TZID=America/Toronto:20210619T000000
DTSTAMP:20260421T132429
CREATED:20210330T224717Z
LAST-MODIFIED:20210330T224717Z
UID:26542-1624060800-1624060800@asttq.net
SUMMARY:GRAND FALLS TRUCK & TRACTOR PULL 2021
DESCRIPTION:Événement annulé et remis à l’an prochain (2022) / Event is cancelled and postponed to next year (2022)
URL:https://asttq.net/en/event/grand-falls-truck-tractor-pull-2021s/
LOCATION:GRAND FALLS\, NB\, 60 Rue Ouellette\, Grand-Sault\, Nouveau-Brunswick\, E3Z 1A6\, Canada
ATTACH;FMTTYPE=image/png:https://asttq.net/wp-content/uploads/2019/01/gfttp-logo-153x139.png
END:VEVENT
BEGIN:VEVENT
DTSTART;TZID=America/Toronto:20210620T000000
DTEND;TZID=America/Toronto:20210620T000000
DTSTAMP:20260421T132429
CREATED:20210330T224621Z
LAST-MODIFIED:20210330T224621Z
UID:26544-1624147200-1624147200@asttq.net
SUMMARY:GRAND FALLS TRUCK & TRACTOR PULL 2021 (dimanche)
DESCRIPTION:Événement annulé et remis à l’an prochain (2022) / Event is cancelled and postponed to next year (2022)
URL:https://asttq.net/en/event/grand-falls-truck-tractor-pull-2021/
LOCATION:GRAND FALLS\, NB\, 60 Rue Ouellette\, Grand-Sault\, Nouveau-Brunswick\, E3Z 1A6\, Canada
ATTACH;FMTTYPE=image/png:https://asttq.net/wp-content/uploads/2019/01/gfttp-logo-153x139.png
END:VEVENT
END:VCALENDAR