BEGIN:VCALENDAR
VERSION:2.0
PRODID:-//Association Sportive de Tire de Tracteurs du Québec - ECPv6.15.15//NONSGML v1.0//EN
CALSCALE:GREGORIAN
METHOD:PUBLISH
X-ORIGINAL-URL:https://asttq.net/en/
X-WR-CALDESC:Events for Association Sportive de Tire de Tracteurs du Québec
REFRESH-INTERVAL;VALUE=DURATION:PT1H
X-Robots-Tag:noindex
X-PUBLISHED-TTL:PT1H
BEGIN:VTIMEZONE
TZID:America/Toronto
BEGIN:DAYLIGHT
TZOFFSETFROM:-0500
TZOFFSETTO:-0400
TZNAME:EDT
DTSTART:20190310T070000
END:DAYLIGHT
BEGIN:STANDARD
TZOFFSETFROM:-0400
TZOFFSETTO:-0500
TZNAME:EST
DTSTART:20191103T060000
END:STANDARD
BEGIN:DAYLIGHT
TZOFFSETFROM:-0500
TZOFFSETTO:-0400
TZNAME:EDT
DTSTART:20200308T070000
END:DAYLIGHT
BEGIN:STANDARD
TZOFFSETFROM:-0400
TZOFFSETTO:-0500
TZNAME:EST
DTSTART:20201101T060000
END:STANDARD
BEGIN:DAYLIGHT
TZOFFSETFROM:-0500
TZOFFSETTO:-0400
TZNAME:EDT
DTSTART:20210314T070000
END:DAYLIGHT
BEGIN:STANDARD
TZOFFSETFROM:-0400
TZOFFSETTO:-0500
TZNAME:EST
DTSTART:20211107T060000
END:STANDARD
END:VTIMEZONE
BEGIN:VEVENT
DTSTART;TZID=America/Toronto:20200905T000000
DTEND;TZID=America/Toronto:20200905T000000
DTSTAMP:20260422T011304
CREATED:20191228T152329Z
LAST-MODIFIED:20200520T005604Z
UID:21509-1599264000-1599264000@asttq.net
SUMMARY:Expo de Brome 2020
DESCRIPTION:Événement annulé et remis à l’an prochain (2021) / Event is cancelled and postponed to next year (2021)
URL:https://asttq.net/en/event/expo-de-brome-2019-2/
LOCATION:BROME\, QC\, 345 Chemin Stagecoach\, Knowlton\, Québec\, J0E 1V0\, Canada
ATTACH;FMTTYPE=image/png:https://asttq.net/wp-content/uploads/2017/05/bromefair-logo33.png
END:VEVENT
BEGIN:VEVENT
DTSTART;TZID=America/Toronto:20200912T000000
DTEND;TZID=America/Toronto:20200912T000000
DTSTAMP:20260422T011304
CREATED:20200115T233344Z
LAST-MODIFIED:20200414T234257Z
UID:21687-1599868800-1599868800@asttq.net
SUMMARY:Expo Richmond 2020
DESCRIPTION:Événement annulé et remis à l’an prochain (2021) / Event is cancelled and postponed to next year (2021)
URL:https://asttq.net/en/?post_type=tribe_events&p=21688
LOCATION:RICHMOND\, QC\, 128 Québec 143\, Cleveland\, Québec\, Canada
ATTACH;FMTTYPE=image/jpeg:https://asttq.net/wp-content/uploads/2017/05/titleonlyinjpgexport.jpg
END:VEVENT
BEGIN:VEVENT
DTSTART;TZID=America/Toronto:20200919T000000
DTEND;TZID=America/Toronto:20200919T000000
DTSTAMP:20260422T011304
CREATED:20191228T151957Z
LAST-MODIFIED:20200411T195115Z
UID:21506-1600473600-1600473600@asttq.net
SUMMARY:Festicam de St-Honoré 2020
DESCRIPTION:Événement annulé et remis à l’an prochain (2021) / Event is cancelled and postponed to next year (2021)
URL:https://asttq.net/en/event/festicam-de-st-honore-3/
LOCATION:SAINT-HONORÉ\, QC\, 203 rue de l'Aéroport\, Saint-Honoré\, Québec\, G0V1L0
END:VEVENT
BEGIN:VEVENT
DTSTART;TZID=America/Toronto:20200920T000000
DTEND;TZID=America/Toronto:20200920T000000
DTSTAMP:20260422T011304
CREATED:20191228T152056Z
LAST-MODIFIED:20200411T195039Z
UID:21505-1600560000-1600560000@asttq.net
SUMMARY:Festicam de St-Honoré 2020 (dimanche)
DESCRIPTION:Événement annulé et remis à l’an prochain (2021) / Event is cancelled and postponed to next year (2021)
URL:https://asttq.net/en/event/festicam-de-st-honore-2-2/
LOCATION:SAINT-HONORÉ\, QC\, 203 rue de l'Aéroport\, Saint-Honoré\, Québec\, G0V1L0
END:VEVENT
END:VCALENDAR