BEGIN:VCALENDAR
VERSION:2.0
PRODID:-//Association Sportive de Tire de Tracteurs du Québec - ECPv6.15.15//NONSGML v1.0//EN
CALSCALE:GREGORIAN
METHOD:PUBLISH
X-ORIGINAL-URL:https://asttq.net/en/
X-WR-CALDESC:Events for Association Sportive de Tire de Tracteurs du Québec
REFRESH-INTERVAL;VALUE=DURATION:PT1H
X-Robots-Tag:noindex
X-PUBLISHED-TTL:PT1H
BEGIN:VTIMEZONE
TZID:America/Toronto
BEGIN:DAYLIGHT
TZOFFSETFROM:-0500
TZOFFSETTO:-0400
TZNAME:EDT
DTSTART:20190310T070000
END:DAYLIGHT
BEGIN:STANDARD
TZOFFSETFROM:-0400
TZOFFSETTO:-0500
TZNAME:EST
DTSTART:20191103T060000
END:STANDARD
BEGIN:DAYLIGHT
TZOFFSETFROM:-0500
TZOFFSETTO:-0400
TZNAME:EDT
DTSTART:20200308T070000
END:DAYLIGHT
BEGIN:STANDARD
TZOFFSETFROM:-0400
TZOFFSETTO:-0500
TZNAME:EST
DTSTART:20201101T060000
END:STANDARD
BEGIN:DAYLIGHT
TZOFFSETFROM:-0500
TZOFFSETTO:-0400
TZNAME:EDT
DTSTART:20210314T070000
END:DAYLIGHT
BEGIN:STANDARD
TZOFFSETFROM:-0400
TZOFFSETTO:-0500
TZNAME:EST
DTSTART:20211107T060000
END:STANDARD
END:VTIMEZONE
BEGIN:VEVENT
DTSTART;TZID=America/Toronto:20200807T000000
DTEND;TZID=America/Toronto:20200807T000000
DTSTAMP:20260422T034552
CREATED:20191228T152807Z
LAST-MODIFIED:20200411T195233Z
UID:21520-1596758400-1596758400@asttq.net
SUMMARY:Foire de Huntingdon 2020 (Vendredi)
DESCRIPTION:Événement annulé et remis à l’an prochain (2021) / Event is cancelled and postponed to next year (2021)
URL:https://asttq.net/en/event/foire-de-huntingdon-2019-2/
LOCATION:HUNTINGDON\, QC\, 1565 Chemin Fairview\, Huntingdon\, Québec\, J0S 1H0\, Canada
ATTACH;FMTTYPE=image/png:https://asttq.net/wp-content/uploads/2017/05/fair-logo2016-175px.png
END:VEVENT
BEGIN:VEVENT
DTSTART;TZID=America/Toronto:20200808T000000
DTEND;TZID=America/Toronto:20200808T000000
DTSTAMP:20260422T034552
CREATED:20191228T152709Z
LAST-MODIFIED:20200411T195205Z
UID:21516-1596844800-1596844800@asttq.net
SUMMARY:Foire de Huntingdon 2020 (Samedi)
DESCRIPTION:Événement annulé et remis à l’an prochain (2021) / Event is cancelled and postponed to next year (2021)
URL:https://asttq.net/en/event/foire-de-huntingdon-2019-samedi-2/
LOCATION:HUNTINGDON\, QC\, 1565 Chemin Fairview\, Huntingdon\, Québec\, J0S 1H0\, Canada
ATTACH;FMTTYPE=image/png:https://asttq.net/wp-content/uploads/2017/05/fair-logo2016-175px.png
END:VEVENT
BEGIN:VEVENT
DTSTART;TZID=America/Toronto:20200822T000000
DTEND;TZID=America/Toronto:20200822T000000
DTSTAMP:20260422T034552
CREATED:20191228T152611Z
LAST-MODIFIED:20200411T200650Z
UID:21514-1598054400-1598054400@asttq.net
SUMMARY:Expo Cookshire 2020
DESCRIPTION:Événement annulé et remis à l’an prochain (2021) / Event is cancelled and postponed to next year (2021)
URL:https://asttq.net/en/?post_type=tribe_events&p=21515
LOCATION:COOKSHIRE\, QC\, 580 QC-108\, Cookshire-Eaton\, Québec\, J0B 1M0\, Canada
ATTACH;FMTTYPE=image/png:https://asttq.net/wp-content/uploads/2017/05/logocookshirerond190x125.png
END:VEVENT
BEGIN:VEVENT
DTSTART;TZID=America/Toronto:20200829T000000
DTEND;TZID=America/Toronto:20200829T000000
DTSTAMP:20260422T034552
CREATED:20191228T152530Z
LAST-MODIFIED:20200411T194944Z
UID:21513-1598659200-1598659200@asttq.net
SUMMARY:Truck’N Roll en Coeur 2020
DESCRIPTION:Événement annulé et remis à l’an prochain (2021) / Event is cancelled and postponed to next year (2021)
URL:https://asttq.net/en/event/truckn-roll-en-coeur-2017-2-2-2/
LOCATION:BEDFORD\, QC\, 16 Rue Philippe Côté\, Bedford\, Québec\, J0J 1A0\, Canada
ATTACH;FMTTYPE=image/png:https://asttq.net/wp-content/uploads/2017/05/trucknroll-logo.png
END:VEVENT
BEGIN:VEVENT
DTSTART;TZID=America/Toronto:20200830T000000
DTEND;TZID=America/Toronto:20200830T000000
DTSTAMP:20260422T034552
CREATED:20191228T152416Z
LAST-MODIFIED:20200411T194857Z
UID:21510-1598745600-1598745600@asttq.net
SUMMARY:Expo Ayer’s Cliff 2020
DESCRIPTION:Événement annulé et remis à l’an prochain (2021) / Event is cancelled and postponed to next year (2021)
URL:https://asttq.net/en/event/expo-ayers-cliff-2019-2/
LOCATION:AYER’S CLIFF\, QC\, 977 Rue Main\, Ayer's Cliff\, Québec\, J0B 1C0\, Canada
ATTACH;FMTTYPE=image/jpeg:https://asttq.net/wp-content/uploads/2017/05/fond_menu_entete.jpg
END:VEVENT
END:VCALENDAR