BEGIN:VCALENDAR
VERSION:2.0
PRODID:-//Association Sportive de Tire de Tracteurs du Québec - ECPv6.15.15//NONSGML v1.0//EN
CALSCALE:GREGORIAN
METHOD:PUBLISH
X-ORIGINAL-URL:https://asttq.net/en/
X-WR-CALDESC:Events for Association Sportive de Tire de Tracteurs du Québec
REFRESH-INTERVAL;VALUE=DURATION:PT1H
X-Robots-Tag:noindex
X-PUBLISHED-TTL:PT1H
BEGIN:VTIMEZONE
TZID:America/Toronto
BEGIN:DAYLIGHT
TZOFFSETFROM:-0500
TZOFFSETTO:-0400
TZNAME:EDT
DTSTART:20190310T070000
END:DAYLIGHT
BEGIN:STANDARD
TZOFFSETFROM:-0400
TZOFFSETTO:-0500
TZNAME:EST
DTSTART:20191103T060000
END:STANDARD
BEGIN:DAYLIGHT
TZOFFSETFROM:-0500
TZOFFSETTO:-0400
TZNAME:EDT
DTSTART:20200308T070000
END:DAYLIGHT
BEGIN:STANDARD
TZOFFSETFROM:-0400
TZOFFSETTO:-0500
TZNAME:EST
DTSTART:20201101T060000
END:STANDARD
BEGIN:DAYLIGHT
TZOFFSETFROM:-0500
TZOFFSETTO:-0400
TZNAME:EDT
DTSTART:20210314T070000
END:DAYLIGHT
BEGIN:STANDARD
TZOFFSETFROM:-0400
TZOFFSETTO:-0500
TZNAME:EST
DTSTART:20211107T060000
END:STANDARD
END:VTIMEZONE
BEGIN:VEVENT
DTSTART;TZID=America/Toronto:20200704T000000
DTEND;TZID=America/Toronto:20200704T000000
DTSTAMP:20260422T045430
CREATED:20191228T150709Z
LAST-MODIFIED:20200411T200148Z
UID:21497-1593820800-1593820800@asttq.net
SUMMARY:Terrain d'exposition de Saint-Agapit 2020
DESCRIPTION:Événement annulé et remis à l’an prochain (2021) / Event is cancelled and postponed to next year (2021)
URL:https://asttq.net/en/?post_type=tribe_events&p=21498
LOCATION:ST-AGAPIT\, QC\, 1070 avenue Bergeron\, Saint-Agapit\, Québec\, G0S 1Z0\, Canada
ATTACH;FMTTYPE=image/png:https://asttq.net/wp-content/uploads/2019/12/Saint-Agapit-2020-publicité-85-x-11-3.png
END:VEVENT
BEGIN:VEVENT
DTSTART;TZID=America/Toronto:20200711T000000
DTEND;TZID=America/Toronto:20200711T000000
DTSTAMP:20260422T045430
CREATED:20191228T153244Z
LAST-MODIFIED:20200411T200052Z
UID:21529-1594425600-1594425600@asttq.net
SUMMARY:Festival de Honfleur\, Bellechasse 2020
DESCRIPTION:Événement annulé et remis à l’an prochain (2021) / Event is cancelled and postponed to next year (2021)
URL:https://asttq.net/en/event/festival-de-honfleur-bellechasse-2019-2/
LOCATION:HONFLEUR\, QC\, 320 Rue Saint-Jean\, Honfleur\, Québec\, G0R 1N0\, Canada
ATTACH;FMTTYPE=image/jpeg:https://asttq.net/wp-content/uploads/2017/05/9261173.jpg
END:VEVENT
BEGIN:VEVENT
DTSTART;TZID=America/Toronto:20200717T000000
DTEND;TZID=America/Toronto:20200717T000000
DTSTAMP:20260422T045430
CREATED:20191228T153519Z
LAST-MODIFIED:20200411T202009Z
UID:21533-1594944000-1594944000@asttq.net
SUMMARY:Expo St-Isidore 2020 (Vendredi)
DESCRIPTION:Événement annulé et remis à l’an prochain (2021) / Event is cancelled and postponed to next year (2021)
URL:https://asttq.net/en/event/expo-st-isidore-2019-vendredi-2/
LOCATION:ST-ISIDORE-DE-BEAUCE\, QC\, 130 route Coulombe\, Saint-Isidore\, Québec\, GS2S0\, Canada
ATTACH;FMTTYPE=image/jpeg:https://asttq.net/wp-content/uploads/2017/05/10177930_232527250287185_3367822556484615112_n.jpg
END:VEVENT
BEGIN:VEVENT
DTSTART;TZID=America/Toronto:20200718T000000
DTEND;TZID=America/Toronto:20200718T000000
DTSTAMP:20260422T045430
CREATED:20191228T153623Z
LAST-MODIFIED:20200411T195853Z
UID:21532-1595030400-1595030400@asttq.net
SUMMARY:Expo St-Isidore 2020 (Samedi)
DESCRIPTION:Événement annulé et remis à l’an prochain (2021) / Event is cancelled and postponed to next year (2021)
URL:https://asttq.net/en/event/expo-st-isidore-2019-samedi-2/
LOCATION:ST-ISIDORE-DE-BEAUCE\, QC\, 130 route Coulombe\, Saint-Isidore\, Québec\, GS2S0\, Canada
ATTACH;FMTTYPE=image/jpeg:https://asttq.net/wp-content/uploads/2017/05/10177930_232527250287185_3367822556484615112_n.jpg
END:VEVENT
BEGIN:VEVENT
DTSTART;TZID=America/Toronto:20200719T000000
DTEND;TZID=America/Toronto:20200719T000000
DTSTAMP:20260422T045430
CREATED:20191228T153424Z
LAST-MODIFIED:20200411T195751Z
UID:21531-1595116800-1595116800@asttq.net
SUMMARY:Expo St-Isidore 2020 (Dimanche)
DESCRIPTION:Événement annulé et remis à l’an prochain (2021) / Event is cancelled and postponed to next year (2021)
URL:https://asttq.net/en/event/expo-st-isidore-2019-dimanche-2/
LOCATION:ST-ISIDORE-DE-BEAUCE\, QC\, 130 route Coulombe\, Saint-Isidore\, Québec\, GS2S0\, Canada
ATTACH;FMTTYPE=image/jpeg:https://asttq.net/wp-content/uploads/2017/05/10177930_232527250287185_3367822556484615112_n.jpg
END:VEVENT
BEGIN:VEVENT
DTSTART;TZID=America/Toronto:20200720T000000
DTEND;TZID=America/Toronto:20200720T000000
DTSTAMP:20260422T045430
CREATED:20191228T153120Z
LAST-MODIFIED:20200411T195635Z
UID:21525-1595203200-1595203200@asttq.net
SUMMARY:Expo St-Hyacinthe 2020 (Lundi)
DESCRIPTION:Événement annulé et remis à l’an prochain (2021) / Event is cancelled and postponed to next year (2021)
URL:https://asttq.net/en/event/expo-st-hyacinthe-2019-lundi-2/
LOCATION:SAINT-HYACINTHE\, QC\, 2670\, avenue Beauparlant\, Saint-Hyacinthe\, Québec\, J2S 4M8\, Canada
ATTACH;FMTTYPE=image/png:https://asttq.net/wp-content/uploads/2017/05/expo-agricole-logo.png
END:VEVENT
BEGIN:VEVENT
DTSTART;TZID=America/Toronto:20200721T000000
DTEND;TZID=America/Toronto:20200721T000000
DTSTAMP:20260422T045430
CREATED:20191228T153032Z
LAST-MODIFIED:20200411T195555Z
UID:21524-1595289600-1595289600@asttq.net
SUMMARY:Expo St-Hyacinthe 2020 (Mardi)
DESCRIPTION:Événement annulé et remis à l’an prochain (2021) / Event is cancelled and postponed to next year (2021)
URL:https://asttq.net/en/event/expo-st-hyacinthe-2019-mardi-2/
LOCATION:SAINT-HYACINTHE\, QC\, 2670\, avenue Beauparlant\, Saint-Hyacinthe\, Québec\, J2S 4M8\, Canada
ATTACH;FMTTYPE=image/png:https://asttq.net/wp-content/uploads/2017/05/expo-agricole-logo.png
END:VEVENT
BEGIN:VEVENT
DTSTART;TZID=America/Toronto:20200722T000000
DTEND;TZID=America/Toronto:20200722T000000
DTSTAMP:20260422T045430
CREATED:20191228T152950Z
LAST-MODIFIED:20200411T195519Z
UID:21523-1595376000-1595376000@asttq.net
SUMMARY:Expo St-Hyacinthe 2020 (Mercredi)
DESCRIPTION:Événement annulé et remis à l’an prochain (2021) / Event is cancelled and postponed to next year (2021)
URL:https://asttq.net/en/event/expo-st-hyacinthe-2019-mercredi-2/
LOCATION:SAINT-HYACINTHE\, QC\, 2670\, avenue Beauparlant\, Saint-Hyacinthe\, Québec\, J2S 4M8\, Canada
ATTACH;FMTTYPE=image/png:https://asttq.net/wp-content/uploads/2017/05/expo-agricole-logo.png
END:VEVENT
END:VCALENDAR