BEGIN:VCALENDAR
VERSION:2.0
PRODID:-//Association Sportive de Tire de Tracteurs du Québec - ECPv6.15.15//NONSGML v1.0//EN
CALSCALE:GREGORIAN
METHOD:PUBLISH
X-ORIGINAL-URL:https://asttq.net/en/
X-WR-CALDESC:Events for Association Sportive de Tire de Tracteurs du Québec
REFRESH-INTERVAL;VALUE=DURATION:PT1H
X-Robots-Tag:noindex
X-PUBLISHED-TTL:PT1H
BEGIN:VTIMEZONE
TZID:America/Toronto
BEGIN:DAYLIGHT
TZOFFSETFROM:-0500
TZOFFSETTO:-0400
TZNAME:EDT
DTSTART:20190310T070000
END:DAYLIGHT
BEGIN:STANDARD
TZOFFSETFROM:-0400
TZOFFSETTO:-0500
TZNAME:EST
DTSTART:20191103T060000
END:STANDARD
BEGIN:DAYLIGHT
TZOFFSETFROM:-0500
TZOFFSETTO:-0400
TZNAME:EDT
DTSTART:20200308T070000
END:DAYLIGHT
BEGIN:STANDARD
TZOFFSETFROM:-0400
TZOFFSETTO:-0500
TZNAME:EST
DTSTART:20201101T060000
END:STANDARD
BEGIN:DAYLIGHT
TZOFFSETFROM:-0500
TZOFFSETTO:-0400
TZNAME:EDT
DTSTART:20210314T070000
END:DAYLIGHT
BEGIN:STANDARD
TZOFFSETFROM:-0400
TZOFFSETTO:-0500
TZNAME:EST
DTSTART:20211107T060000
END:STANDARD
END:VTIMEZONE
BEGIN:VEVENT
DTSTART;TZID=America/Toronto:20200606T000000
DTEND;TZID=America/Toronto:20200606T000000
DTSTAMP:20260422T072025
CREATED:20191228T154340Z
LAST-MODIFIED:20200410T184754Z
UID:21547-1591401600-1591401600@asttq.net
SUMMARY:Sainte-Béatrix 2020 (pm)
DESCRIPTION:Événement annulé et remis à l’an prochain (2021) / Event is cancelled and postponed to next year (2021)
URL:https://asttq.net/en/event/sainte-beatrix-2020-2/
LOCATION:SAINTE-BÉATRIX\, QC\, 1124 rang Sainte-Cécile\, Sainte-Béatrix\, québec\, J0K 1Y0\, Canada
END:VEVENT
BEGIN:VEVENT
DTSTART;TZID=America/Toronto:20200606T000000
DTEND;TZID=America/Toronto:20200606T000000
DTSTAMP:20260422T072025
CREATED:20200128T141157Z
LAST-MODIFIED:20200410T184709Z
UID:21725-1591401600-1591401600@asttq.net
SUMMARY:Sainte-Béatrix 2020 (soir)
DESCRIPTION:Événement annulé et remis à l’an prochain (2021) / Event is cancelled and postponed to next year (2021)
URL:https://asttq.net/en/event/sainte-beatrix-2020/
LOCATION:SAINTE-BÉATRIX\, QC\, 1124 rang Sainte-Cécile\, Sainte-Béatrix\, québec\, J0K 1Y0\, Canada
END:VEVENT
BEGIN:VEVENT
DTSTART;TZID=America/Toronto:20200613T000000
DTEND;TZID=America/Toronto:20200613T000000
DTSTAMP:20260422T072025
CREATED:20191228T153737Z
LAST-MODIFIED:20200411T200528Z
UID:21537-1592006400-1592006400@asttq.net
SUMMARY:Expo Ormstown 2020
DESCRIPTION:Événement annulé et remis à l’an prochain (2021) / Event is cancelled and postponed to next year (2021)
URL:https://asttq.net/en/event/expo-ormstown-2019-2/
LOCATION:ORMSTOWN\, QC\, 1 Rue McBain\, Ormstown\, Québec\, J0S 1K0\, Canada
ATTACH;FMTTYPE=image/png:https://asttq.net/wp-content/uploads/2017/05/expoormstowndesjardins.png
END:VEVENT
BEGIN:VEVENT
DTSTART;TZID=America/Toronto:20200620T000000
DTEND;TZID=America/Toronto:20200620T000000
DTSTAMP:20260422T072025
CREATED:20191228T154046Z
LAST-MODIFIED:20200411T201851Z
UID:21544-1592611200-1592611200@asttq.net
SUMMARY:GRAND FALLS TRUCK & TRACTOR PULL 2020 (samedi)
DESCRIPTION:Événement annulé et remis à l’an prochain (2021) / Event is cancelled and postponed to next year (2021)
URL:https://asttq.net/en/event/grand-falls-truck-tractor-pull-2-2/
LOCATION:GRAND FALLS\, NB\, 60 Rue Ouellette\, Grand-Sault\, Nouveau-Brunswick\, E3Z 1A6\, Canada
ATTACH;FMTTYPE=image/png:https://asttq.net/wp-content/uploads/2019/01/gfttp-logo-153x139.png
END:VEVENT
BEGIN:VEVENT
DTSTART;TZID=America/Toronto:20200621T000000
DTEND;TZID=America/Toronto:20200621T000000
DTSTAMP:20260422T072025
CREATED:20191228T154130Z
LAST-MODIFIED:20200411T200342Z
UID:21543-1592697600-1592697600@asttq.net
SUMMARY:GRAND FALLS TRUCK & TRACTOR PULL 2020
DESCRIPTION:Événement annulé et remis à l’an prochain (2021) / Event is cancelled and postponed to next year (2021)
URL:https://asttq.net/en/event/grand-falls-truck-tractor-pull-3/
LOCATION:GRAND FALLS\, NB\, 60 Rue Ouellette\, Grand-Sault\, Nouveau-Brunswick\, E3Z 1A6\, Canada
ATTACH;FMTTYPE=image/png:https://asttq.net/wp-content/uploads/2019/01/gfttp-logo-153x139.png
END:VEVENT
BEGIN:VEVENT
DTSTART;TZID=America/Toronto:20200626T000000
DTEND;TZID=America/Toronto:20200626T000000
DTSTAMP:20260422T072025
CREATED:20191228T153956Z
LAST-MODIFIED:20200414T232857Z
UID:21539-1593129600-1593129600@asttq.net
SUMMARY:CENTREVILLE SUPER POWER-PULL 2020 (vendredi)
DESCRIPTION:À confirmer / To be confirmed
URL:https://asttq.net/en/event/centreville-super-power-pull-2-2/
LOCATION:CENTREVILLE\, NB\, 698 Central Street\, Centreville\, Nouveau-Brunswick\, E7K 2M5\, Canada
END:VEVENT
BEGIN:VEVENT
DTSTART;TZID=America/Toronto:20200627T000000
DTEND;TZID=America/Toronto:20200627T000000
DTSTAMP:20260422T072025
CREATED:20191228T153908Z
LAST-MODIFIED:20200414T232958Z
UID:21540-1593216000-1593216000@asttq.net
SUMMARY:CENTREVILLE SUPER POWER-PULL 2020
DESCRIPTION:À confirmer / To be confirmed
URL:https://asttq.net/en/event/centreville-super-power-pull-3/
LOCATION:CENTREVILLE\, NB\, 698 Central Street\, Centreville\, Nouveau-Brunswick\, E7K 2M5\, Canada
END:VEVENT
END:VCALENDAR