BEGIN:VCALENDAR
VERSION:2.0
PRODID:-//Association Sportive de Tire de Tracteurs du Québec - ECPv6.15.15//NONSGML v1.0//EN
CALSCALE:GREGORIAN
METHOD:PUBLISH
X-ORIGINAL-URL:https://asttq.net/en/
X-WR-CALDESC:Events for Association Sportive de Tire de Tracteurs du Québec
REFRESH-INTERVAL;VALUE=DURATION:PT1H
X-Robots-Tag:noindex
X-PUBLISHED-TTL:PT1H
BEGIN:VTIMEZONE
TZID:America/Toronto
BEGIN:DAYLIGHT
TZOFFSETFROM:-0500
TZOFFSETTO:-0400
TZNAME:EDT
DTSTART:20180311T070000
END:DAYLIGHT
BEGIN:STANDARD
TZOFFSETFROM:-0400
TZOFFSETTO:-0500
TZNAME:EST
DTSTART:20181104T060000
END:STANDARD
BEGIN:DAYLIGHT
TZOFFSETFROM:-0500
TZOFFSETTO:-0400
TZNAME:EDT
DTSTART:20190310T070000
END:DAYLIGHT
BEGIN:STANDARD
TZOFFSETFROM:-0400
TZOFFSETTO:-0500
TZNAME:EST
DTSTART:20191103T060000
END:STANDARD
BEGIN:DAYLIGHT
TZOFFSETFROM:-0500
TZOFFSETTO:-0400
TZNAME:EDT
DTSTART:20200308T070000
END:DAYLIGHT
BEGIN:STANDARD
TZOFFSETFROM:-0400
TZOFFSETTO:-0500
TZNAME:EST
DTSTART:20201101T060000
END:STANDARD
END:VTIMEZONE
BEGIN:VEVENT
DTSTART;TZID=America/Toronto:20190706T183000
DTEND;TZID=America/Toronto:20190706T183000
DTSTAMP:20260423T023047
CREATED:20190128T181634Z
LAST-MODIFIED:20190421T014610Z
UID:14056-1562437800-1562437800@asttq.net
SUMMARY:Terrain d'exposition de Saint-Agapit 2019
DESCRIPTION:(remis au 7 juillet si pluie/ postponed on July 7 if rainout)
URL:https://asttq.net/en/?post_type=tribe_events&p=14057
LOCATION:ST-AGAPIT\, QC\, 1070 avenue Bergeron\, Saint-Agapit\, Québec\, G0S 1Z0\, Canada
ATTACH;FMTTYPE=image/jpeg:https://asttq.net/wp-content/uploads/2019/01/affiche.jpg
END:VEVENT
BEGIN:VEVENT
DTSTART;TZID=America/Toronto:20190713T190000
DTEND;TZID=America/Toronto:20190713T190000
DTSTAMP:20260423T023047
CREATED:20190128T191149Z
LAST-MODIFIED:20190222T132422Z
UID:14062-1563044400-1563044400@asttq.net
SUMMARY:Festival de Honfleur\, Bellechasse 2019
DESCRIPTION:(remis au 14 juillet si pluie\, postponed on July 14 if rainout)
URL:https://asttq.net/en/event/festival-de-honfleur-bellechasse-2019/
LOCATION:HONFLEUR\, QC\, 320 Rue Saint-Jean\, Honfleur\, Québec\, G0R 1N0\, Canada
ATTACH;FMTTYPE=image/jpeg:https://asttq.net/wp-content/uploads/2017/05/9261173.jpg
END:VEVENT
BEGIN:VEVENT
DTSTART;TZID=America/Toronto:20190719T193000
DTEND;TZID=America/Toronto:20190719T193000
DTSTAMP:20260423T023047
CREATED:20190128T191532Z
LAST-MODIFIED:20190206T235100Z
UID:14066-1563564600-1563564600@asttq.net
SUMMARY:Expo St-Isidore 2019 (Vendredi)
DESCRIPTION:
URL:https://asttq.net/en/event/expo-st-isidore-2019-vendredi/
LOCATION:ST-ISIDORE-DE-BEAUCE\, QC\, 130 route Coulombe\, Saint-Isidore\, Québec\, GS2S0\, Canada
ATTACH;FMTTYPE=image/jpeg:https://asttq.net/wp-content/uploads/2017/05/10177930_232527250287185_3367822556484615112_n.jpg
END:VEVENT
BEGIN:VEVENT
DTSTART;TZID=America/Toronto:20190720T183000
DTEND;TZID=America/Toronto:20190720T183000
DTSTAMP:20260423T023047
CREATED:20190128T192504Z
LAST-MODIFIED:20190206T234752Z
UID:14065-1563647400-1563647400@asttq.net
SUMMARY:Expo St-Isidore 2019 (Samedi)
DESCRIPTION:
URL:https://asttq.net/en/event/expo-st-isidore-2019-samedi/
LOCATION:ST-ISIDORE-DE-BEAUCE\, QC\, 130 route Coulombe\, Saint-Isidore\, Québec\, GS2S0\, Canada
ATTACH;FMTTYPE=image/jpeg:https://asttq.net/wp-content/uploads/2017/05/10177930_232527250287185_3367822556484615112_n.jpg
END:VEVENT
BEGIN:VEVENT
DTSTART;TZID=America/Toronto:20190721T183000
DTEND;TZID=America/Toronto:20190721T183000
DTSTAMP:20260423T023047
CREATED:20190128T193418Z
LAST-MODIFIED:20190207T194154Z
UID:14064-1563733800-1563733800@asttq.net
SUMMARY:Expo St-Isidore 2019 (Dimanche)
DESCRIPTION:
URL:https://asttq.net/en/event/expo-st-isidore-2019-dimanche/
LOCATION:ST-ISIDORE-DE-BEAUCE\, QC\, 130 route Coulombe\, Saint-Isidore\, Québec\, GS2S0\, Canada
ATTACH;FMTTYPE=image/jpeg:https://asttq.net/wp-content/uploads/2017/05/10177930_232527250287185_3367822556484615112_n.jpg
END:VEVENT
BEGIN:VEVENT
DTSTART;TZID=America/Toronto:20190722T183000
DTEND;TZID=America/Toronto:20190722T183000
DTSTAMP:20260423T023047
CREATED:20190129T044507Z
LAST-MODIFIED:20190403T203039Z
UID:14073-1563820200-1563820200@asttq.net
SUMMARY:Expo St-Hyacinthe 2019 (Lundi)
DESCRIPTION:
URL:https://asttq.net/en/event/expo-st-hyacinthe-2019-lundi/
LOCATION:SAINT-HYACINTHE\, QC\, 2670\, avenue Beauparlant\, Saint-Hyacinthe\, Québec\, J2S 4M8\, Canada
ATTACH;FMTTYPE=image/png:https://asttq.net/wp-content/uploads/2017/05/expo-agricole-logo.png
END:VEVENT
BEGIN:VEVENT
DTSTART;TZID=America/Toronto:20190723T183000
DTEND;TZID=America/Toronto:20190723T183000
DTSTAMP:20260423T023047
CREATED:20190129T044735Z
LAST-MODIFIED:20190403T202924Z
UID:14072-1563906600-1563906600@asttq.net
SUMMARY:Expo St-Hyacinthe 2019 (Mardi)
DESCRIPTION:
URL:https://asttq.net/en/event/expo-st-hyacinthe-2019-mardi/
LOCATION:SAINT-HYACINTHE\, QC\, 2670\, avenue Beauparlant\, Saint-Hyacinthe\, Québec\, J2S 4M8\, Canada
ATTACH;FMTTYPE=image/png:https://asttq.net/wp-content/uploads/2017/05/expo-agricole-logo.png
END:VEVENT
BEGIN:VEVENT
DTSTART;TZID=America/Toronto:20190724T183000
DTEND;TZID=America/Toronto:20190724T183000
DTSTAMP:20260423T023047
CREATED:20190129T044911Z
LAST-MODIFIED:20190403T202835Z
UID:14071-1563993000-1563993000@asttq.net
SUMMARY:Expo St-Hyacinthe 2019 (Mercredi)
DESCRIPTION:
URL:https://asttq.net/en/event/expo-st-hyacinthe-2019-mercredi/
LOCATION:SAINT-HYACINTHE\, QC\, 2670\, avenue Beauparlant\, Saint-Hyacinthe\, Québec\, J2S 4M8\, Canada
ATTACH;FMTTYPE=image/png:https://asttq.net/wp-content/uploads/2017/05/expo-agricole-logo.png
END:VEVENT
END:VCALENDAR