BEGIN:VCALENDAR
VERSION:2.0
PRODID:-//Association Sportive de Tire de Tracteurs du Québec - ECPv6.15.15//NONSGML v1.0//EN
CALSCALE:GREGORIAN
METHOD:PUBLISH
X-ORIGINAL-URL:https://asttq.net/en/
X-WR-CALDESC:Events for Association Sportive de Tire de Tracteurs du Québec
REFRESH-INTERVAL;VALUE=DURATION:PT1H
X-Robots-Tag:noindex
X-PUBLISHED-TTL:PT1H
BEGIN:VTIMEZONE
TZID:America/Toronto
BEGIN:DAYLIGHT
TZOFFSETFROM:-0500
TZOFFSETTO:-0400
TZNAME:EDT
DTSTART:20170312T070000
END:DAYLIGHT
BEGIN:STANDARD
TZOFFSETFROM:-0400
TZOFFSETTO:-0500
TZNAME:EST
DTSTART:20171105T060000
END:STANDARD
BEGIN:DAYLIGHT
TZOFFSETFROM:-0500
TZOFFSETTO:-0400
TZNAME:EDT
DTSTART:20180311T070000
END:DAYLIGHT
BEGIN:STANDARD
TZOFFSETFROM:-0400
TZOFFSETTO:-0500
TZNAME:EST
DTSTART:20181104T060000
END:STANDARD
BEGIN:DAYLIGHT
TZOFFSETFROM:-0500
TZOFFSETTO:-0400
TZNAME:EDT
DTSTART:20190310T070000
END:DAYLIGHT
BEGIN:STANDARD
TZOFFSETFROM:-0400
TZOFFSETTO:-0500
TZNAME:EST
DTSTART:20191103T060000
END:STANDARD
END:VTIMEZONE
BEGIN:VEVENT
DTSTART;TZID=America/Toronto:20180801T183000
DTEND;TZID=America/Toronto:20180801T183000
DTSTAMP:20260423T183211
CREATED:20180126T171103Z
LAST-MODIFIED:20180417T142542Z
UID:9870-1533148200-1533148200@asttq.net
SUMMARY:Expo St-Hyacinthe 2018 (Mercredi)
DESCRIPTION:
URL:https://asttq.net/en/event/expo-st-hyacinthe-2017-mercredi-2/
LOCATION:SAINT-HYACINTHE\, QC\, 2670\, avenue Beauparlant\, Saint-Hyacinthe\, Québec\, J2S 4M8\, Canada
ATTACH;FMTTYPE=image/png:https://asttq.net/wp-content/uploads/2017/05/expo-agricole-logo.png
END:VEVENT
BEGIN:VEVENT
DTSTART;TZID=America/Toronto:20180803T183000
DTEND;TZID=America/Toronto:20180803T183000
DTSTAMP:20260423T183211
CREATED:20180126T170650Z
LAST-MODIFIED:20180812T150702Z
UID:9920-1533321000-1533321000@asttq.net
SUMMARY:Festival du Maïs 2018 (vendredi)
DESCRIPTION:
URL:https://asttq.net/en/event/festival-du-mais-2017-2/
LOCATION:ST-DAMASE\, QC\, 105 rue Sainte-Anne\, St-Damase\, Québec\, j0h 1j0\, Canada
ATTACH;FMTTYPE=image/png:https://asttq.net/wp-content/uploads/2017/05/siteon0.png
END:VEVENT
BEGIN:VEVENT
DTSTART;TZID=America/Toronto:20180804T123000
DTEND;TZID=America/Toronto:20180804T123000
DTSTAMP:20260423T183211
CREATED:20180126T170827Z
LAST-MODIFIED:20180812T150702Z
UID:9919-1533385800-1533385800@asttq.net
SUMMARY:Festival du Maïs 2018 (samedi)
DESCRIPTION:
URL:https://asttq.net/en/event/festival-du-mais-2017-3/
LOCATION:ST-DAMASE\, QC\, 105 rue Sainte-Anne\, St-Damase\, Québec\, j0h 1j0\, Canada
ATTACH;FMTTYPE=image/png:https://asttq.net/wp-content/uploads/2017/05/siteon0.png
END:VEVENT
BEGIN:VEVENT
DTSTART;TZID=America/Toronto:20180810T193000
DTEND;TZID=America/Toronto:20180810T193000
DTSTAMP:20260423T183211
CREATED:20180126T165230Z
LAST-MODIFIED:20180812T150702Z
UID:9867-1533929400-1533929400@asttq.net
SUMMARY:Foire de Huntingdon 2018(Vendredi)
DESCRIPTION:
URL:https://asttq.net/en/event/foire-de-huntingdon-2017-2/
LOCATION:HUNTINGDON\, QC\, 1565 Chemin Fairview\, Huntingdon\, Québec\, J0S 1H0\, Canada
ATTACH;FMTTYPE=image/png:https://asttq.net/wp-content/uploads/2017/05/fair-logo2016-175px.png
END:VEVENT
BEGIN:VEVENT
DTSTART;TZID=America/Toronto:20180811T183000
DTEND;TZID=America/Toronto:20180811T183000
DTSTAMP:20260423T183211
CREATED:20180126T164644Z
LAST-MODIFIED:20180812T150701Z
UID:9866-1534012200-1534012200@asttq.net
SUMMARY:Foire de Huntingdon 2018 (Samedi)
DESCRIPTION:
URL:https://asttq.net/en/event/foire-de-huntingdon-2017-samedi-2/
LOCATION:HUNTINGDON\, QC\, 1565 Chemin Fairview\, Huntingdon\, Québec\, J0S 1H0\, Canada
ATTACH;FMTTYPE=image/png:https://asttq.net/wp-content/uploads/2017/05/fair-logo2016-175px.png
END:VEVENT
BEGIN:VEVENT
DTSTART;TZID=America/Toronto:20180818T193000
DTEND;TZID=America/Toronto:20180818T193000
DTSTAMP:20260423T183211
CREATED:20180214T164708Z
LAST-MODIFIED:20180606T035520Z
UID:10035-1534620600-1534620600@asttq.net
SUMMARY:Expo Cookshire 2018
DESCRIPTION:
URL:https://asttq.net/en/event/expo-cookshire-2018/
LOCATION:COOKSHIRE\, QC\, 580 QC-108\, Cookshire-Eaton\, Québec\, J0B 1M0\, Canada
ATTACH;FMTTYPE=image/png:https://asttq.net/wp-content/uploads/2017/05/logocookshirerond190x125.png
END:VEVENT
BEGIN:VEVENT
DTSTART;TZID=America/Toronto:20180825T130000
DTEND;TZID=America/Toronto:20180825T130000
DTSTAMP:20260423T183211
CREATED:20180126T164232Z
LAST-MODIFIED:20180417T224730Z
UID:9863-1535202000-1535202000@asttq.net
SUMMARY:Truck’N Roll en Coeur 2018
DESCRIPTION:
URL:https://asttq.net/en/event/truckn-roll-en-coeur-2017-2/
LOCATION:BEDFORD\, QC\, 16 Rue Philippe Côté\, Bedford\, Québec\, J0J 1A0\, Canada
ATTACH;FMTTYPE=image/png:https://asttq.net/wp-content/uploads/2017/05/trucknroll-logo.png
END:VEVENT
BEGIN:VEVENT
DTSTART;TZID=America/Toronto:20180826T190000
DTEND;TZID=America/Toronto:20180826T190000
DTSTAMP:20260423T183211
CREATED:20180126T164145Z
LAST-MODIFIED:20180315T204727Z
UID:9862-1535310000-1535310000@asttq.net
SUMMARY:Expo Ayer’s Cliff 2018
DESCRIPTION:
URL:https://asttq.net/en/event/expo-ayers-cliff-2017-2/
LOCATION:AYER’S CLIFF\, QC\, 977 Rue Main\, Ayer's Cliff\, Québec\, J0B 1C0\, Canada
ATTACH;FMTTYPE=image/jpeg:https://asttq.net/wp-content/uploads/2017/05/fond_menu_entete.jpg
END:VEVENT
END:VCALENDAR