BEGIN:VCALENDAR
VERSION:2.0
PRODID:-//Association Sportive de Tire de Tracteurs du Québec - ECPv6.15.15//NONSGML v1.0//EN
CALSCALE:GREGORIAN
METHOD:PUBLISH
X-WR-CALNAME:Association Sportive de Tire de Tracteurs du Québec
X-ORIGINAL-URL:https://asttq.net/en/
X-WR-CALDESC:Events for Association Sportive de Tire de Tracteurs du Québec
REFRESH-INTERVAL;VALUE=DURATION:PT1H
X-Robots-Tag:noindex
X-PUBLISHED-TTL:PT1H
BEGIN:VTIMEZONE
TZID:America/Toronto
BEGIN:DAYLIGHT
TZOFFSETFROM:-0500
TZOFFSETTO:-0400
TZNAME:EDT
DTSTART:20220313T070000
END:DAYLIGHT
BEGIN:STANDARD
TZOFFSETFROM:-0400
TZOFFSETTO:-0500
TZNAME:EST
DTSTART:20221106T060000
END:STANDARD
BEGIN:DAYLIGHT
TZOFFSETFROM:-0500
TZOFFSETTO:-0400
TZNAME:EDT
DTSTART:20230312T070000
END:DAYLIGHT
BEGIN:STANDARD
TZOFFSETFROM:-0400
TZOFFSETTO:-0500
TZNAME:EST
DTSTART:20231105T060000
END:STANDARD
BEGIN:DAYLIGHT
TZOFFSETFROM:-0500
TZOFFSETTO:-0400
TZNAME:EDT
DTSTART:20240310T070000
END:DAYLIGHT
BEGIN:STANDARD
TZOFFSETFROM:-0400
TZOFFSETTO:-0500
TZNAME:EST
DTSTART:20241103T060000
END:STANDARD
BEGIN:DAYLIGHT
TZOFFSETFROM:-0500
TZOFFSETTO:-0400
TZNAME:EDT
DTSTART:20250309T070000
END:DAYLIGHT
BEGIN:STANDARD
TZOFFSETFROM:-0400
TZOFFSETTO:-0500
TZNAME:EST
DTSTART:20251102T060000
END:STANDARD
END:VTIMEZONE
BEGIN:VEVENT
DTSTART;TZID=America/Toronto:20240608T180000
DTEND;TZID=America/Toronto:20240608T180000
DTSTAMP:20260419T150519
CREATED:20240306T215316Z
LAST-MODIFIED:20240407T213719Z
UID:70106-1717869600-1717869600@asttq.net
SUMMARY:Expo Ormstown 2024 (Samedi)
DESCRIPTION:
URL:https://asttq.net/en/event/expo-ormstown-2023-samedi-2-2/
LOCATION:ORMSTOWN\, QC\, 1 Rue McBain\, Ormstown\, Québec\, J0S 1K0\, Canada
ATTACH;FMTTYPE=image/png:https://asttq.net/wp-content/uploads/2017/05/expoormstowndesjardins.png
END:VEVENT
BEGIN:VEVENT
DTSTART;TZID=America/Toronto:20240607T190000
DTEND;TZID=America/Toronto:20240607T190000
DTSTAMP:20260419T150519
CREATED:20240306T214811Z
LAST-MODIFIED:20240407T212432Z
UID:70104-1717786800-1717786800@asttq.net
SUMMARY:Expo Ormstown 2024 (Vendredi)
DESCRIPTION:
URL:https://asttq.net/en/event/expo-ormstown-2023-samedi-2/
LOCATION:ORMSTOWN\, QC\, 1 Rue McBain\, Ormstown\, Québec\, J0S 1K0\, Canada
ATTACH;FMTTYPE=image/png:https://asttq.net/wp-content/uploads/2017/05/expoormstowndesjardins.png
END:VEVENT
BEGIN:VEVENT
DTSTART;TZID=America/Toronto:20230917T120000
DTEND;TZID=America/Toronto:20230917T120000
DTSTAMP:20260419T150519
CREATED:20230509T152139Z
LAST-MODIFIED:20230509T152139Z
UID:63165-1694952000-1694952000@asttq.net
SUMMARY:Festicam de St-Honoré 2023
DESCRIPTION:
URL:https://asttq.net/en/event/festicam-de-st-honore-2021-samedi-2-2/
LOCATION:SAINT-HONORÉ\, QC\, 203 rue de l'Aéroport\, Saint-Honoré\, Québec\, G0V1L0
END:VEVENT
BEGIN:VEVENT
DTSTART;TZID=America/Toronto:20230916T120000
DTEND;TZID=America/Toronto:20230916T120000
DTSTAMP:20260419T150519
CREATED:20230509T152051Z
LAST-MODIFIED:20230509T152051Z
UID:63158-1694865600-1694865600@asttq.net
SUMMARY:Festicam de St-Honoré 2023
DESCRIPTION:
URL:https://asttq.net/en/event/festicam-de-st-honore-2021-samedi-2/
LOCATION:SAINT-HONORÉ\, QC\, 203 rue de l'Aéroport\, Saint-Honoré\, Québec\, G0V1L0
END:VEVENT
BEGIN:VEVENT
DTSTART;TZID=America/Toronto:20230910T130000
DTEND;TZID=America/Toronto:20230910T130000
DTSTAMP:20260419T150519
CREATED:20230306T182337Z
LAST-MODIFIED:20230320T201637Z
UID:61205-1694350800-1694350800@asttq.net
SUMMARY:Expo Richmond 2023 (dimanche)
DESCRIPTION:
URL:https://asttq.net/en/event/expo-richmond-2023-dimanche/
LOCATION:RICHMOND\, QC\, 128 Québec 143\, Cleveland\, Québec\, Canada
ATTACH;FMTTYPE=image/jpeg:https://asttq.net/wp-content/uploads/2017/05/titleonlyinjpgexport.jpg
END:VEVENT
BEGIN:VEVENT
DTSTART;TZID=America/Toronto:20230909T183000
DTEND;TZID=America/Toronto:20230909T183000
DTSTAMP:20260419T150519
CREATED:20230306T182223Z
LAST-MODIFIED:20230306T183757Z
UID:61197-1694284200-1694284200@asttq.net
SUMMARY:Expo Richmond 2023 (samedi soir)
DESCRIPTION:
URL:https://asttq.net/en/event/expo-richmond-2023-samedi-soir/
LOCATION:RICHMOND\, QC\, 128 Québec 143\, Cleveland\, Québec\, Canada
ATTACH;FMTTYPE=image/jpeg:https://asttq.net/wp-content/uploads/2017/05/titleonlyinjpgexport.jpg
END:VEVENT
BEGIN:VEVENT
DTSTART;TZID=America/Toronto:20230909T130000
DTEND;TZID=America/Toronto:20230909T130000
DTSTAMP:20260419T150519
CREATED:20230306T182116Z
LAST-MODIFIED:20230306T183758Z
UID:61188-1694264400-1694264400@asttq.net
SUMMARY:Expo Richmond 2023 (samedi pm)
DESCRIPTION:
URL:https://asttq.net/en/?post_type=tribe_events&p=61189
LOCATION:RICHMOND\, QC\, 128 Québec 143\, Cleveland\, Québec\, Canada
ATTACH;FMTTYPE=image/jpeg:https://asttq.net/wp-content/uploads/2017/05/titleonlyinjpgexport.jpg
END:VEVENT
BEGIN:VEVENT
DTSTART;TZID=America/Toronto:20230902T190000
DTEND;TZID=America/Toronto:20230902T190000
DTSTAMP:20260419T150519
CREATED:20230306T181900Z
LAST-MODIFIED:20230306T183758Z
UID:61181-1693681200-1693681200@asttq.net
SUMMARY:Expo de Brome 2023
DESCRIPTION:
URL:https://asttq.net/en/event/expo-de-brome-2023/
LOCATION:BROME\, QC\, 345 Chemin Stagecoach\, Knowlton\, Québec\, J0E 1V0\, Canada
ATTACH;FMTTYPE=image/png:https://asttq.net/wp-content/uploads/2017/05/bromefair-logo33.png
END:VEVENT
BEGIN:VEVENT
DTSTART;TZID=America/Toronto:20230827T183000
DTEND;TZID=America/Toronto:20230827T183000
DTSTAMP:20260419T150519
CREATED:20230306T181800Z
LAST-MODIFIED:20230306T183758Z
UID:61174-1693161000-1693161000@asttq.net
SUMMARY:Expo Ayer’s Cliff 2023
DESCRIPTION:
URL:https://asttq.net/en/event/expo-ayers-cliff-2023/
LOCATION:AYER’S CLIFF\, QC\, 977 Rue Main\, Ayer's Cliff\, Québec\, J0B 1C0\, Canada
ATTACH;FMTTYPE=image/jpeg:https://asttq.net/wp-content/uploads/2017/05/fond_menu_entete.jpg
END:VEVENT
BEGIN:VEVENT
DTSTART;TZID=America/Toronto:20230826T120000
DTEND;TZID=America/Toronto:20230826T180000
DTSTAMP:20260419T150519
CREATED:20230306T181544Z
LAST-MODIFIED:20230808T230117Z
UID:61167-1693051200-1693072800@asttq.net
SUMMARY:Truck’N Roll en Coeur 2023
DESCRIPTION:
URL:https://asttq.net/en/event/truckn-roll-en-coeur-2023/
LOCATION:BEDFORD\, QC\, 16 Rue Philippe Côté\, Bedford\, Québec\, J0J 1A0\, Canada
ATTACH;FMTTYPE=image/png:https://asttq.net/wp-content/uploads/2017/05/trucknroll-logo.png
END:VEVENT
BEGIN:VEVENT
DTSTART;TZID=America/Toronto:20230819T190000
DTEND;TZID=America/Toronto:20230819T190000
DTSTAMP:20260419T150519
CREATED:20230306T180713Z
LAST-MODIFIED:20230306T183759Z
UID:61134-1692471600-1692471600@asttq.net
SUMMARY:Expo Cookshire 2023 (samedi)
DESCRIPTION:
URL:https://asttq.net/en/event/expo-cookshire-2023-samedi/
LOCATION:COOKSHIRE\, QC\, 580 QC-108\, Cookshire-Eaton\, Québec\, J0B 1M0\, Canada
ATTACH;FMTTYPE=image/png:https://asttq.net/wp-content/uploads/2017/05/logocookshirerond190x125.png
END:VEVENT
BEGIN:VEVENT
DTSTART;TZID=America/Toronto:20230819T110000
DTEND;TZID=America/Toronto:20230819T110000
DTSTAMP:20260419T150519
CREATED:20230306T181204Z
LAST-MODIFIED:20230306T183800Z
UID:61145-1692442800-1692442800@asttq.net
SUMMARY:Tire Ste-Séraphine 2023
DESCRIPTION:Location d’équipement disponible / Equipment rental available
URL:https://asttq.net/en/event/tire-ste-seraphine/
LOCATION:STE-SÉRAPHINE\, QC\, Sainte-Séraphine\, Sainte-Séraphine\, QC\, J0A 1E0\, Canada
ATTACH;FMTTYPE=image/jpeg:https://asttq.net/wp-content/uploads/2023/03/275062051_102491805733064_5708757983083457494_n.jpg
END:VEVENT
BEGIN:VEVENT
DTSTART;TZID=America/Toronto:20230818T193000
DTEND;TZID=America/Toronto:20230818T193000
DTSTAMP:20260419T150519
CREATED:20230306T180603Z
LAST-MODIFIED:20230306T183800Z
UID:61128-1692387000-1692387000@asttq.net
SUMMARY:Expo Cookshire 2023 (vendredi)
DESCRIPTION:
URL:https://asttq.net/en/?post_type=tribe_events&p=61129
LOCATION:COOKSHIRE\, QC\, 580 QC-108\, Cookshire-Eaton\, Québec\, J0B 1M0\, Canada
ATTACH;FMTTYPE=image/png:https://asttq.net/wp-content/uploads/2017/05/logocookshirerond190x125.png
END:VEVENT
BEGIN:VEVENT
DTSTART;TZID=America/Toronto:20230812T183000
DTEND;TZID=America/Toronto:20230812T183000
DTSTAMP:20260419T150519
CREATED:20230306T180435Z
LAST-MODIFIED:20230306T183800Z
UID:61119-1691865000-1691865000@asttq.net
SUMMARY:Foire de Huntingdon 2023 (Samedi)
DESCRIPTION:
URL:https://asttq.net/en/event/foire-de-huntingdon-2023-samedi/
LOCATION:HUNTINGDON\, QC\, 1565 Chemin Fairview\, Huntingdon\, Québec\, J0S 1H0\, Canada
ATTACH;FMTTYPE=image/png:https://asttq.net/wp-content/uploads/2017/05/fair-logo2016-175px.png
END:VEVENT
BEGIN:VEVENT
DTSTART;TZID=America/Toronto:20230811T193000
DTEND;TZID=America/Toronto:20230811T193000
DTSTAMP:20260419T150519
CREATED:20230306T180320Z
LAST-MODIFIED:20230306T183801Z
UID:61112-1691782200-1691782200@asttq.net
SUMMARY:Foire de Huntingdon 2023 (Vendredi)
DESCRIPTION:
URL:https://asttq.net/en/event/foire-de-huntingdon-2023-vendredi/
LOCATION:HUNTINGDON\, QC\, 1565 Chemin Fairview\, Huntingdon\, Québec\, J0S 1H0\, Canada
ATTACH;FMTTYPE=image/png:https://asttq.net/wp-content/uploads/2017/05/fair-logo2016-175px.png
END:VEVENT
BEGIN:VEVENT
DTSTART;TZID=America/Toronto:20230805T190000
DTEND;TZID=America/Toronto:20230805T190000
DTSTAMP:20260419T150519
CREATED:20230306T175816Z
LAST-MODIFIED:20230306T183801Z
UID:61030-1691262000-1691262000@asttq.net
SUMMARY:Expo Vallée de la Coaticook 2023 (Samedi)
DESCRIPTION:Location d’équipement disponible / Equipment rental available
URL:https://asttq.net/en/event/expo-vallee-de-la-coaticook-2023-samedi/
LOCATION:COATICOOK\, QC\, 125 Chem. Morgan\, Coaticook\, QC\, J1A 1V6\, Canada
ATTACH;FMTTYPE=image/png:https://asttq.net/wp-content/uploads/2023/03/box_logo.png
END:VEVENT
BEGIN:VEVENT
DTSTART;TZID=America/Toronto:20230805T153000
DTEND;TZID=America/Toronto:20230805T153000
DTSTAMP:20260419T150519
CREATED:20230306T174216Z
LAST-MODIFIED:20230306T183801Z
UID:60783-1691249400-1691249400@asttq.net
SUMMARY:PEI Truck and Tractor Pull - Crapaud 2023 (samedi)
DESCRIPTION:Location de machine de transfert Iron Man seulement  – Iron Man sled rental only.
URL:https://asttq.net/en/event/pei-truck-and-tractor-pull-crapaud-2023-samedi/
LOCATION:CRAPAUD\, IPÉ\, 20591 Rte Transcanadienne\, Crapaud\, Ile-du-Prince-Édouard\, C0A 1J0\, Canada
END:VEVENT
BEGIN:VEVENT
DTSTART;TZID=America/Toronto:20230804T190000
DTEND;TZID=America/Toronto:20230804T190000
DTSTAMP:20260419T150519
CREATED:20230306T175334Z
LAST-MODIFIED:20230306T183802Z
UID:60793-1691175600-1691175600@asttq.net
SUMMARY:Expo Vallée de la Coaticook 2023 (vendredi)
DESCRIPTION:Location d’équipement disponible / Equipment rental available
URL:https://asttq.net/en/event/expo-vallee-de-la-coaticook-2023-vendredi/
LOCATION:COATICOOK\, QC\, 125 Chem. Morgan\, Coaticook\, QC\, J1A 1V6\, Canada
ATTACH;FMTTYPE=image/png:https://asttq.net/wp-content/uploads/2023/03/box_logo.png
END:VEVENT
BEGIN:VEVENT
DTSTART;TZID=America/Toronto:20230804T160000
DTEND;TZID=America/Toronto:20230804T160000
DTSTAMP:20260419T150519
CREATED:20230306T174114Z
LAST-MODIFIED:20230306T183802Z
UID:60778-1691164800-1691164800@asttq.net
SUMMARY:PEI Truck and Tractor Pull - Crapaud 2023 (vendredi)
DESCRIPTION:Location de machine de transfert Iron Man seulement  – Iron Man sled rental only.
URL:https://asttq.net/en/event/pei-truck-and-tractor-pull-crapaud-2023-vendredi/
LOCATION:CRAPAUD\, IPÉ\, 20591 Rte Transcanadienne\, Crapaud\, Ile-du-Prince-Édouard\, C0A 1J0\, Canada
END:VEVENT
BEGIN:VEVENT
DTSTART;TZID=America/Toronto:20230729T190000
DTEND;TZID=America/Toronto:20230729T190000
DTSTAMP:20260419T150519
CREATED:20230306T173917Z
LAST-MODIFIED:20230306T183802Z
UID:60769-1690657200-1690657200@asttq.net
SUMMARY:Expo St-Hyacinthe 2023 (samedi)
DESCRIPTION:
URL:https://asttq.net/en/event/expo-st-hyacinthe-2023-samedi/
LOCATION:SAINT-HYACINTHE\, QC\, 2670\, avenue Beauparlant\, Saint-Hyacinthe\, Québec\, J2S 4M8\, Canada
ATTACH;FMTTYPE=image/png:https://asttq.net/wp-content/uploads/2017/05/expo-agricole-logo.png
END:VEVENT
BEGIN:VEVENT
DTSTART;TZID=America/Toronto:20230728T180000
DTEND;TZID=America/Toronto:20230728T180000
DTSTAMP:20260419T150519
CREATED:20230306T173752Z
LAST-MODIFIED:20230306T183803Z
UID:60764-1690567200-1690567200@asttq.net
SUMMARY:Expo St-Hyacinthe 2023 (vendredi)
DESCRIPTION:
URL:https://asttq.net/en/event/expo-st-hyacinthe-2023-vendredi/
LOCATION:SAINT-HYACINTHE\, QC\, 2670\, avenue Beauparlant\, Saint-Hyacinthe\, Québec\, J2S 4M8\, Canada
ATTACH;FMTTYPE=image/png:https://asttq.net/wp-content/uploads/2017/05/expo-agricole-logo.png
END:VEVENT
BEGIN:VEVENT
DTSTART;TZID=America/Toronto:20230722T183000
DTEND;TZID=America/Toronto:20230722T183000
DTSTAMP:20260419T150519
CREATED:20230306T173409Z
LAST-MODIFIED:20230424T173850Z
UID:60741-1690050600-1690050600@asttq.net
SUMMARY:Expo St-Isidore 2023 (Samedi)
DESCRIPTION:Remis au dimanche 16h en cas de pluie
URL:https://asttq.net/en/event/expo-st-isidore-2023-samedi/
LOCATION:ST-ISIDORE-DE-BEAUCE\, QC\, 130 route Coulombe\, Saint-Isidore\, Québec\, GS2S0\, Canada
ATTACH;FMTTYPE=image/jpeg:https://asttq.net/wp-content/uploads/2017/05/10177930_232527250287185_3367822556484615112_n.jpg
END:VEVENT
BEGIN:VEVENT
DTSTART;TZID=America/Toronto:20230721T190000
DTEND;TZID=America/Toronto:20230721T190000
DTSTAMP:20260419T150519
CREATED:20230306T173158Z
LAST-MODIFIED:20230424T172140Z
UID:60734-1689966000-1689966000@asttq.net
SUMMARY:Expo St-Isidore 2023 (Vendredi)
DESCRIPTION:
URL:https://asttq.net/en/event/expo-st-isidore-2023-vendredi/
LOCATION:ST-ISIDORE-DE-BEAUCE\, QC\, 130 route Coulombe\, Saint-Isidore\, Québec\, GS2S0\, Canada
ATTACH;FMTTYPE=image/jpeg:https://asttq.net/wp-content/uploads/2017/05/10177930_232527250287185_3367822556484615112_n.jpg
END:VEVENT
BEGIN:VEVENT
DTSTART;TZID=America/Toronto:20230715T190000
DTEND;TZID=America/Toronto:20230715T190000
DTSTAMP:20260419T150519
CREATED:20230306T173047Z
LAST-MODIFIED:20230613T010727Z
UID:60726-1689447600-1689447600@asttq.net
SUMMARY:Festival de Honfleur\, Bellechasse 2023
DESCRIPTION:
URL:https://asttq.net/en/event/festival-de-honfleur-bellechasse-2023/
LOCATION:HONFLEUR\, QC\, 320 Rue Saint-Jean\, Honfleur\, Québec\, G0R 1N0\, Canada
ATTACH;FMTTYPE=image/jpeg:https://asttq.net/wp-content/uploads/2017/05/9261173.jpg
END:VEVENT
BEGIN:VEVENT
DTSTART;TZID=America/Toronto:20230715T100000
DTEND;TZID=America/Toronto:20230715T170000
DTSTAMP:20260419T150519
CREATED:20230424T165547Z
LAST-MODIFIED:20230424T173739Z
UID:62090-1689415200-1689440400@asttq.net
SUMMARY:WOODSTOCK N.B.
DESCRIPTION:Location de machine de transfert Stress Relief  – Stress Relief sled rental
URL:https://asttq.net/en/event/woodstock-n-b-2/
LOCATION:Woodstock N.B.\, Woodstock\, Nouveau-Brunswick\, Canada
END:VEVENT
BEGIN:VEVENT
DTSTART;TZID=America/Toronto:20230714T160000
DTEND;TZID=America/Toronto:20230714T220000
DTSTAMP:20260419T150519
CREATED:20230424T165423Z
LAST-MODIFIED:20230424T173645Z
UID:62081-1689350400-1689372000@asttq.net
SUMMARY:WOODSTOCK N.B
DESCRIPTION:Location de machine de transfert Stress Relief  – Stress Relief sled rental
URL:https://asttq.net/en/event/woodstock-n-b/
LOCATION:Woodstock N.B.\, Woodstock\, Nouveau-Brunswick\, Canada
END:VEVENT
BEGIN:VEVENT
DTSTART;TZID=America/Toronto:20230708T190000
DTEND;TZID=America/Toronto:20230708T190000
DTSTAMP:20260419T150519
CREATED:20230306T172633Z
LAST-MODIFIED:20230306T183804Z
UID:60709-1688842800-1688842800@asttq.net
SUMMARY:Terrain d'exposition de Saint-Agapit 2023 (samedi)
DESCRIPTION:
URL:https://asttq.net/en/?post_type=tribe_events&p=60710
LOCATION:ST-AGAPIT\, QC\, 1070 avenue Bergeron\, Saint-Agapit\, Québec\, G0S 1Z0\, Canada
END:VEVENT
BEGIN:VEVENT
DTSTART;TZID=America/Toronto:20230707T193000
DTEND;TZID=America/Toronto:20230707T193000
DTSTAMP:20260419T150519
CREATED:20230306T172437Z
LAST-MODIFIED:20230306T183805Z
UID:60703-1688758200-1688758200@asttq.net
SUMMARY:Terrain d'exposition de Saint-Agapit 2023 (vendredi)
DESCRIPTION:
URL:https://asttq.net/en/?post_type=tribe_events&p=60704
LOCATION:ST-AGAPIT\, QC\, 1070 avenue Bergeron\, Saint-Agapit\, Québec\, G0S 1Z0\, Canada
END:VEVENT
BEGIN:VEVENT
DTSTART;TZID=America/Toronto:20230701T160000
DTEND;TZID=America/Toronto:20230701T160000
DTSTAMP:20260419T150519
CREATED:20230306T172225Z
LAST-MODIFIED:20230306T183805Z
UID:60696-1688227200-1688227200@asttq.net
SUMMARY:CENTREVILLE SUPER POWER-PULL 2023
DESCRIPTION:Location de machine de transfert Iron Man et Iron Boy  – Iron Man and Iron Boy sled rental
URL:https://asttq.net/en/event/centreville-super-power-pull-2022-samedi/
LOCATION:CENTREVILLE\, NB\, 698 Central Street\, Centreville\, Nouveau-Brunswick\, E7K 2M5\, Canada
END:VEVENT
BEGIN:VEVENT
DTSTART;TZID=America/Toronto:20230630T160000
DTEND;TZID=America/Toronto:20230630T160000
DTSTAMP:20260419T150519
CREATED:20230306T172100Z
LAST-MODIFIED:20230306T183805Z
UID:60689-1688140800-1688140800@asttq.net
SUMMARY:CENTREVILLE SUPER POWER-PULL 2023 (vendredi)
DESCRIPTION:Location de machine de transfert Iron Man et Iron Boy  – Iron Man and Iron Boy sled rental
URL:https://asttq.net/en/event/centreville-super-power-pull-2023-vendredi/
LOCATION:CENTREVILLE\, NB\, 698 Central Street\, Centreville\, Nouveau-Brunswick\, E7K 2M5\, Canada
END:VEVENT
END:VCALENDAR