BEGIN:VCALENDAR
VERSION:2.0
PRODID:-//Association Sportive de Tire de Tracteurs du Québec - ECPv6.15.15//NONSGML v1.0//EN
CALSCALE:GREGORIAN
METHOD:PUBLISH
X-WR-CALNAME:Association Sportive de Tire de Tracteurs du Québec
X-ORIGINAL-URL:https://asttq.net/en/
X-WR-CALDESC:Events for Association Sportive de Tire de Tracteurs du Québec
REFRESH-INTERVAL;VALUE=DURATION:PT1H
X-Robots-Tag:noindex
X-PUBLISHED-TTL:PT1H
BEGIN:VTIMEZONE
TZID:America/Toronto
BEGIN:DAYLIGHT
TZOFFSETFROM:-0500
TZOFFSETTO:-0400
TZNAME:EDT
DTSTART:20200308T070000
END:DAYLIGHT
BEGIN:STANDARD
TZOFFSETFROM:-0400
TZOFFSETTO:-0500
TZNAME:EST
DTSTART:20201101T060000
END:STANDARD
BEGIN:DAYLIGHT
TZOFFSETFROM:-0500
TZOFFSETTO:-0400
TZNAME:EDT
DTSTART:20210314T070000
END:DAYLIGHT
BEGIN:STANDARD
TZOFFSETFROM:-0400
TZOFFSETTO:-0500
TZNAME:EST
DTSTART:20211107T060000
END:STANDARD
BEGIN:DAYLIGHT
TZOFFSETFROM:-0500
TZOFFSETTO:-0400
TZNAME:EDT
DTSTART:20220313T070000
END:DAYLIGHT
BEGIN:STANDARD
TZOFFSETFROM:-0400
TZOFFSETTO:-0500
TZNAME:EST
DTSTART:20221106T060000
END:STANDARD
BEGIN:DAYLIGHT
TZOFFSETFROM:-0500
TZOFFSETTO:-0400
TZNAME:EDT
DTSTART:20230312T070000
END:DAYLIGHT
BEGIN:STANDARD
TZOFFSETFROM:-0400
TZOFFSETTO:-0500
TZNAME:EST
DTSTART:20231105T060000
END:STANDARD
END:VTIMEZONE
BEGIN:VEVENT
DTSTART;TZID=America/Toronto:20220723T183000
DTEND;TZID=America/Toronto:20220723T183000
DTSTAMP:20260421T014107
CREATED:20211123T213601Z
LAST-MODIFIED:20220408T012052Z
UID:36004-1658601000-1658601000@asttq.net
SUMMARY:Expo St-Isidore 2022 (Samedi)
DESCRIPTION:Remis au 24 juillet 2022 (16h00) en cas de pluie – Postponed to July 24\, 2022 (4:00PM) if rainout.
URL:https://asttq.net/en/event/expo-st-isidore-2022s/
LOCATION:ST-ISIDORE-DE-BEAUCE\, QC\, 130 route Coulombe\, Saint-Isidore\, Québec\, GS2S0\, Canada
ATTACH;FMTTYPE=image/jpeg:https://asttq.net/wp-content/uploads/2017/05/10177930_232527250287185_3367822556484615112_n.jpg
END:VEVENT
BEGIN:VEVENT
DTSTART;TZID=America/Toronto:20220722T190000
DTEND;TZID=America/Toronto:20220722T190000
DTSTAMP:20260421T014107
CREATED:20211123T214151Z
LAST-MODIFIED:20220408T011835Z
UID:36015-1658516400-1658516400@asttq.net
SUMMARY:Expo St-Isidore 2022 (Vendredi)
DESCRIPTION:Remis au 24 juillet 2022 (16h00) en cas de pluie – Postponed to July 24\, 2022 (4:00PM) if rainout.
URL:https://asttq.net/en/event/expo-st-isidore-2022v/
LOCATION:ST-ISIDORE-DE-BEAUCE\, QC\, 130 route Coulombe\, Saint-Isidore\, Québec\, GS2S0\, Canada
ATTACH;FMTTYPE=image/jpeg:https://asttq.net/wp-content/uploads/2017/05/10177930_232527250287185_3367822556484615112_n.jpg
END:VEVENT
BEGIN:VEVENT
DTSTART;TZID=America/Toronto:20220716T190000
DTEND;TZID=America/Toronto:20220716T190000
DTSTAMP:20260421T014107
CREATED:20211123T205958Z
LAST-MODIFIED:20220413T003611Z
UID:35963-1657998000-1657998000@asttq.net
SUMMARY:Festival de Honfleur\, Bellechasse 2022
DESCRIPTION:Remis au 17 juillet en cas de pluie – Postponed to July 17 if rainout
URL:https://asttq.net/en/event/festival-de-honfleur-bellechasse-2022/
LOCATION:HONFLEUR\, QC\, 320 Rue Saint-Jean\, Honfleur\, Québec\, G0R 1N0\, Canada
ATTACH;FMTTYPE=image/jpeg:https://asttq.net/wp-content/uploads/2017/05/9261173.jpg
END:VEVENT
BEGIN:VEVENT
DTSTART;TZID=America/Toronto:20220709T173000
DTEND;TZID=America/Toronto:20220709T173000
DTSTAMP:20260421T014107
CREATED:20211123T213037Z
LAST-MODIFIED:20220126T151705Z
UID:35972-1657387800-1657387800@asttq.net
SUMMARY:Terrain d'exposition de Saint-Agapit 2022
DESCRIPTION:
URL:https://asttq.net/en/?post_type=tribe_events&p=35973
LOCATION:ST-AGAPIT\, QC\, 1070 avenue Bergeron\, Saint-Agapit\, Québec\, G0S 1Z0\, Canada
END:VEVENT
BEGIN:VEVENT
DTSTART;TZID=America/Toronto:20220708T183000
DTEND;TZID=America/Toronto:20220708T183000
DTSTAMP:20260421T014107
CREATED:20211123T212557Z
LAST-MODIFIED:20220126T010647Z
UID:35977-1657305000-1657305000@asttq.net
SUMMARY:Terrain d'exposition de Saint-Agapit 2022 (vendredi)
DESCRIPTION:
URL:https://asttq.net/en/?post_type=tribe_events&p=35978
LOCATION:ST-AGAPIT\, QC\, 1070 avenue Bergeron\, Saint-Agapit\, Québec\, G0S 1Z0\, Canada
END:VEVENT
BEGIN:VEVENT
DTSTART;TZID=America/Toronto:20220702T160000
DTEND;TZID=America/Toronto:20220702T160000
DTSTAMP:20260421T014107
CREATED:20211123T205423Z
LAST-MODIFIED:20220325T144135Z
UID:35943-1656777600-1656777600@asttq.net
SUMMARY:CENTREVILLE SUPER POWER-PULL 2022
DESCRIPTION:Location de machine de transfert Iron Man et Iron Boy  – Iron Man and Iron Boy sled rental
URL:https://asttq.net/en/event/centreville-super-power-pull-2022s/
LOCATION:CENTREVILLE\, NB\, 698 Central Street\, Centreville\, Nouveau-Brunswick\, E7K 2M5\, Canada
END:VEVENT
BEGIN:VEVENT
DTSTART;TZID=America/Toronto:20220701T160000
DTEND;TZID=America/Toronto:20220701T160000
DTSTAMP:20260421T014107
CREATED:20211123T205210Z
LAST-MODIFIED:20220325T143959Z
UID:35945-1656691200-1656691200@asttq.net
SUMMARY:CENTREVILLE SUPER POWER-PULL 2022 (vendredi)
DESCRIPTION:Location de machine de transfert Iron Man et Iron Boy  – Iron Man and Iron Boy sled rental
URL:https://asttq.net/en/event/centreville-super-power-pull-2022v/
LOCATION:CENTREVILLE\, NB\, 698 Central Street\, Centreville\, Nouveau-Brunswick\, E7K 2M5\, Canada
END:VEVENT
BEGIN:VEVENT
DTSTART;TZID=America/Toronto:20220619T110000
DTEND;TZID=America/Toronto:20220619T110000
DTSTAMP:20260421T014107
CREATED:20211123T204811Z
LAST-MODIFIED:20220412T013957Z
UID:35927-1655636400-1655636400@asttq.net
SUMMARY:GRAND FALLS TRUCK & TRACTOR PULL 2022 (dimanche)
DESCRIPTION:Location de machine de transfert Iron Man et Iron Boy  – Iron Man and Iron Boy sled rental
URL:https://asttq.net/en/event/grand-falls-truck-tractor-pull-2022/
LOCATION:GRAND FALLS\, NB\, 60 Rue Ouellette\, Grand-Sault\, Nouveau-Brunswick\, E3Z 1A6\, Canada
ATTACH;FMTTYPE=image/png:https://asttq.net/wp-content/uploads/2019/01/gfttp-logo-153x139.png
END:VEVENT
BEGIN:VEVENT
DTSTART;TZID=America/Toronto:20220618T110000
DTEND;TZID=America/Toronto:20220618T110000
DTSTAMP:20260421T014107
CREATED:20211123T204937Z
LAST-MODIFIED:20220412T013810Z
UID:35925-1655550000-1655550000@asttq.net
SUMMARY:GRAND FALLS TRUCK & TRACTOR PULL 2022
DESCRIPTION:Location de machine de transfert Iron Man et Iron Boy  – Iron Man and Iron Boy sled rental
URL:https://asttq.net/en/event/grand-falls-truck-tractor-pull-2022s/
LOCATION:GRAND FALLS\, NB\, 60 Rue Ouellette\, Grand-Sault\, Nouveau-Brunswick\, E3Z 1A6\, Canada
ATTACH;FMTTYPE=image/png:https://asttq.net/wp-content/uploads/2019/01/gfttp-logo-153x139.png
END:VEVENT
BEGIN:VEVENT
DTSTART;TZID=America/Toronto:20220611T180000
DTEND;TZID=America/Toronto:20220611T180000
DTSTAMP:20260421T014107
CREATED:20211123T204504Z
LAST-MODIFIED:20220606T185302Z
UID:35916-1654970400-1654970400@asttq.net
SUMMARY:Expo Ormstown 2022 (samedi)
DESCRIPTION:
URL:https://asttq.net/en/event/expo-ormstown-2022/
LOCATION:ORMSTOWN\, QC\, 1 Rue McBain\, Ormstown\, Québec\, J0S 1K0\, Canada
ATTACH;FMTTYPE=image/png:https://asttq.net/wp-content/uploads/2017/05/expoormstowndesjardins.png
END:VEVENT
BEGIN:VEVENT
DTSTART;TZID=America/Toronto:20220610T190000
DTEND;TZID=America/Toronto:20220610T190000
DTSTAMP:20260421T014107
CREATED:20220330T011159Z
LAST-MODIFIED:20220515T193840Z
UID:47842-1654887600-1654887600@asttq.net
SUMMARY:Expo Ormstown 2022 (vendredi)
DESCRIPTION:
URL:https://asttq.net/en/event/expo-ormstown-2022v/
LOCATION:ORMSTOWN\, QC\, 1 Rue McBain\, Ormstown\, Québec\, J0S 1K0\, Canada
ATTACH;FMTTYPE=image/png:https://asttq.net/wp-content/uploads/2017/05/expoormstowndesjardins.png
END:VEVENT
BEGIN:VEVENT
DTSTART;TZID=America/Toronto:20210919T000000
DTEND;TZID=America/Toronto:20210919T000000
DTSTAMP:20260421T014107
CREATED:20210223T223843Z
LAST-MODIFIED:20210617T122647Z
UID:25934-1632009600-1632009600@asttq.net
SUMMARY:Festicam de St-Honoré 2021 (dimanche)
DESCRIPTION:Événement annulé et remis à l’an prochain (2022) / Event is cancelled and postponed to next year (2022)
URL:https://asttq.net/en/event/festicam-de-st-honore-2021/
LOCATION:SAINT-HONORÉ\, QC\, 203 rue de l'Aéroport\, Saint-Honoré\, Québec\, G0V1L0
END:VEVENT
BEGIN:VEVENT
DTSTART;TZID=America/Toronto:20210918T000000
DTEND;TZID=America/Toronto:20210918T000000
DTSTAMP:20260421T014107
CREATED:20210223T223940Z
LAST-MODIFIED:20210617T122621Z
UID:25943-1631923200-1631923200@asttq.net
SUMMARY:Festicam de St-Honoré 2021
DESCRIPTION:Événement annulé et remis à l’an prochain (2022) / Event is cancelled and postponed to next year (2022)
URL:https://asttq.net/en/event/festicam-de-st-honore-2021-samedi/
LOCATION:SAINT-HONORÉ\, QC\, 203 rue de l'Aéroport\, Saint-Honoré\, Québec\, G0V1L0
END:VEVENT
BEGIN:VEVENT
DTSTART;TZID=America/Toronto:20210911T000000
DTEND;TZID=America/Toronto:20210911T000000
DTSTAMP:20260421T014107
CREATED:20210223T223748Z
LAST-MODIFIED:20210617T122720Z
UID:25924-1631318400-1631318400@asttq.net
SUMMARY:Expo Richmond 2021
DESCRIPTION:Événement annulé et remis à l’an prochain (2022) / Event is cancelled and postponed to next year (2022)
URL:https://asttq.net/en/?post_type=tribe_events&p=25925
LOCATION:RICHMOND\, QC\, 128 Québec 143\, Cleveland\, Québec\, Canada
ATTACH;FMTTYPE=image/jpeg:https://asttq.net/wp-content/uploads/2017/05/titleonlyinjpgexport.jpg
END:VEVENT
BEGIN:VEVENT
DTSTART;TZID=America/Toronto:20210904T183000
DTEND;TZID=America/Toronto:20210904T183000
DTSTAMP:20260421T014107
CREATED:20210223T221733Z
LAST-MODIFIED:20210706T190401Z
UID:25749-1630780200-1630780200@asttq.net
SUMMARY:CENTREVILLE SUPER POWER-PULL 2021
DESCRIPTION:Remis au 5 septembre en cas de pluie – Postponed to September 5th if rainout
URL:https://asttq.net/en/event/centreville-super-power-pull-2021s/
LOCATION:CENTREVILLE\, NB\, 698 Central Street\, Centreville\, Nouveau-Brunswick\, E7K 2M5\, Canada
END:VEVENT
BEGIN:VEVENT
DTSTART;TZID=America/Toronto:20210904T000000
DTEND;TZID=America/Toronto:20210904T000000
DTSTAMP:20260421T014107
CREATED:20210223T223651Z
LAST-MODIFIED:20210608T191226Z
UID:25914-1630713600-1630713600@asttq.net
SUMMARY:Expo de Brome 2021
DESCRIPTION:Événement annulé et remis à l’an prochain (2022) / Event is cancelled and postponed to next year (2022)
URL:https://asttq.net/en/event/expo-de-brome-2021/
LOCATION:BROME\, QC\, 345 Chemin Stagecoach\, Knowlton\, Québec\, J0E 1V0\, Canada
ATTACH;FMTTYPE=image/png:https://asttq.net/wp-content/uploads/2017/05/bromefair-logo33.png
END:VEVENT
BEGIN:VEVENT
DTSTART;TZID=America/Toronto:20210903T183000
DTEND;TZID=America/Toronto:20210903T183000
DTSTAMP:20260421T014107
CREATED:20210223T221621Z
LAST-MODIFIED:20210706T190440Z
UID:25740-1630693800-1630693800@asttq.net
SUMMARY:CENTREVILLE SUPER POWER-PULL 2021 (vendredi)
DESCRIPTION:Remis au 5 septembre en cas de pluie – Postponed to September 5th if rainout
URL:https://asttq.net/en/event/centreville-super-power-pull-2021v/
LOCATION:CENTREVILLE\, NB\, 698 Central Street\, Centreville\, Nouveau-Brunswick\, E7K 2M5\, Canada
END:VEVENT
BEGIN:VEVENT
DTSTART;TZID=America/Toronto:20210829T000000
DTEND;TZID=America/Toronto:20210829T000000
DTSTAMP:20260421T014107
CREATED:20210223T223607Z
LAST-MODIFIED:20210605T224521Z
UID:25904-1630195200-1630195200@asttq.net
SUMMARY:Expo Ayer’s Cliff 2021
DESCRIPTION:Événement annulé et remis à l’an prochain (2022) / Event is cancelled and postponed to next year (2022)
URL:https://asttq.net/en/event/expo-ayers-cliff-2021/
LOCATION:AYER’S CLIFF\, QC\, 977 Rue Main\, Ayer's Cliff\, Québec\, J0B 1C0\, Canada
ATTACH;FMTTYPE=image/jpeg:https://asttq.net/wp-content/uploads/2017/05/fond_menu_entete.jpg
END:VEVENT
BEGIN:VEVENT
DTSTART;TZID=America/Toronto:20210828T000000
DTEND;TZID=America/Toronto:20210828T000000
DTSTAMP:20260421T014107
CREATED:20210223T223448Z
LAST-MODIFIED:20210722T020309Z
UID:25895-1630108800-1630108800@asttq.net
SUMMARY:Truck’N Roll en Coeur 2021
DESCRIPTION:Événement annulé et remis à l’an prochain (2022) / Event is cancelled and postponed to next year (2022)
URL:https://asttq.net/en/event/truckn-roll-en-coeur-2021/
LOCATION:BEDFORD\, QC\, 16 Rue Philippe Côté\, Bedford\, Québec\, J0J 1A0\, Canada
ATTACH;FMTTYPE=image/png:https://asttq.net/wp-content/uploads/2017/05/trucknroll-logo.png
END:VEVENT
BEGIN:VEVENT
DTSTART;TZID=America/Toronto:20210821T000000
DTEND;TZID=America/Toronto:20210821T000000
DTSTAMP:20260421T014107
CREATED:20210223T223359Z
LAST-MODIFIED:20210617T122753Z
UID:25875-1629504000-1629504000@asttq.net
SUMMARY:Expo Cookshire 2021 (samedi)
DESCRIPTION:Événement annulé et remis à l’an prochain (2022) / Event is cancelled and postponed to next year (2022)
URL:https://asttq.net/en/?post_type=tribe_events&p=25876
LOCATION:COOKSHIRE\, QC\, 580 QC-108\, Cookshire-Eaton\, Québec\, J0B 1M0\, Canada
ATTACH;FMTTYPE=image/png:https://asttq.net/wp-content/uploads/2017/05/logocookshirerond190x125.png
END:VEVENT
BEGIN:VEVENT
DTSTART;TZID=America/Toronto:20210820T000000
DTEND;TZID=America/Toronto:20210820T000000
DTSTAMP:20260421T014107
CREATED:20210223T223314Z
LAST-MODIFIED:20210617T122830Z
UID:25878-1629417600-1629417600@asttq.net
SUMMARY:Expo Cookshire 2021 (vendredi)
DESCRIPTION:Événement annulé et remis à l’an prochain (2022) / Event is cancelled and postponed to next year (2022)
URL:https://asttq.net/en/?post_type=tribe_events&p=25879
LOCATION:COOKSHIRE\, QC\, 580 QC-108\, Cookshire-Eaton\, Québec\, J0B 1M0\, Canada
ATTACH;FMTTYPE=image/png:https://asttq.net/wp-content/uploads/2017/05/logocookshirerond190x125.png
END:VEVENT
BEGIN:VEVENT
DTSTART;TZID=America/Toronto:20210814T183000
DTEND;TZID=America/Toronto:20210814T183000
DTSTAMP:20260421T014107
CREATED:20210223T223206Z
LAST-MODIFIED:20210705T132509Z
UID:25866-1628965800-1628965800@asttq.net
SUMMARY:Foire de Huntingdon 2021 (Samedi)
DESCRIPTION:Toutes les classes sont non sanctionnées – All classes unsanctioned
URL:https://asttq.net/en/event/foire-de-huntingdon-2021-samedi/
LOCATION:HUNTINGDON\, QC\, 1565 Chemin Fairview\, Huntingdon\, Québec\, J0S 1H0\, Canada
ATTACH;FMTTYPE=image/png:https://asttq.net/wp-content/uploads/2017/05/fair-logo2016-175px.png
END:VEVENT
BEGIN:VEVENT
DTSTART;TZID=America/Toronto:20210813T190000
DTEND;TZID=America/Toronto:20210813T193000
DTSTAMP:20260421T014107
CREATED:20210223T223102Z
LAST-MODIFIED:20210719T133731Z
UID:25857-1628881200-1628883000@asttq.net
SUMMARY:Foire de Huntingdon 2021 (Vendredi)
DESCRIPTION:Toutes les classes sont non sanctionnées – All classes unsanctioned
URL:https://asttq.net/en/event/foire-de-huntingdon-2021/
LOCATION:HUNTINGDON\, QC\, 1565 Chemin Fairview\, Huntingdon\, Québec\, J0S 1H0\, Canada
ATTACH;FMTTYPE=image/png:https://asttq.net/wp-content/uploads/2017/05/fair-logo2016-175px.png
END:VEVENT
BEGIN:VEVENT
DTSTART;TZID=America/Toronto:20210731T000000
DTEND;TZID=America/Toronto:20210731T000000
DTSTAMP:20260421T014107
CREATED:20210223T223014Z
LAST-MODIFIED:20210330T201630Z
UID:25848-1627689600-1627689600@asttq.net
SUMMARY:Saint-Théophile 2021
DESCRIPTION:Annulé \ cancelled
URL:https://asttq.net/en/event/saint-theophile-2021/
LOCATION:SAINT-THÉOPHILE\, QC\, QC-173 et QC-269\, Saint-Théophile\, Québec\, g0m2a0\, Canada
END:VEVENT
BEGIN:VEVENT
DTSTART;TZID=America/Toronto:20210728T000000
DTEND;TZID=America/Toronto:20210728T000000
DTSTAMP:20260421T014107
CREATED:20210223T222835Z
LAST-MODIFIED:20210621T104449Z
UID:25838-1627430400-1627430400@asttq.net
SUMMARY:Expo St-Hyacinthe 2021 (Mercredi)
DESCRIPTION:Reportée à une date ultérieure en 2021 ou 2022 – Postponed later in 2021 or 2022
URL:https://asttq.net/en/event/expo-st-hyacinthe-2021-mercredi/
LOCATION:SAINT-HYACINTHE\, QC\, 2670\, avenue Beauparlant\, Saint-Hyacinthe\, Québec\, J2S 4M8\, Canada
ATTACH;FMTTYPE=image/png:https://asttq.net/wp-content/uploads/2017/05/expo-agricole-logo.png
END:VEVENT
BEGIN:VEVENT
DTSTART;TZID=America/Toronto:20210727T000000
DTEND;TZID=America/Toronto:20210727T000000
DTSTAMP:20260421T014107
CREATED:20210223T222707Z
LAST-MODIFIED:20210621T104600Z
UID:25829-1627344000-1627344000@asttq.net
SUMMARY:Expo St-Hyacinthe 2021 (Mardi)
DESCRIPTION:Reportée à une date ultérieure en 2021 ou 2022 – Postponed later in 2021 or 2022
URL:https://asttq.net/en/event/expo-st-hyacinthe-2021-mardi/
LOCATION:SAINT-HYACINTHE\, QC\, 2670\, avenue Beauparlant\, Saint-Hyacinthe\, Québec\, J2S 4M8\, Canada
ATTACH;FMTTYPE=image/png:https://asttq.net/wp-content/uploads/2017/05/expo-agricole-logo.png
END:VEVENT
BEGIN:VEVENT
DTSTART;TZID=America/Toronto:20210726T000000
DTEND;TZID=America/Toronto:20210726T000000
DTSTAMP:20260421T014107
CREATED:20210223T222604Z
LAST-MODIFIED:20210621T104652Z
UID:25820-1627257600-1627257600@asttq.net
SUMMARY:Expo St-Hyacinthe 2021 (Lundi)
DESCRIPTION:Reportée à une date ultérieure en 2021 ou 2022 – Postponed later in 2021 or 2022
URL:https://asttq.net/en/event/expo-st-hyacinthe-2019-lundi-2-2/
LOCATION:SAINT-HYACINTHE\, QC\, 2670\, avenue Beauparlant\, Saint-Hyacinthe\, Québec\, J2S 4M8\, Canada
ATTACH;FMTTYPE=image/png:https://asttq.net/wp-content/uploads/2017/05/expo-agricole-logo.png
END:VEVENT
BEGIN:VEVENT
DTSTART;TZID=America/Toronto:20210717T183000
DTEND;TZID=America/Toronto:20210717T183000
DTSTAMP:20260421T014107
CREATED:20210223T222520Z
LAST-MODIFIED:20210607T190807Z
UID:25790-1626546600-1626546600@asttq.net
SUMMARY:Expo St-Isidore 2021 (Samedi)
DESCRIPTION:Toutes les classes sont non sanctionnées – All classes unsanctioned \ Remis au dimanche (13h30) en cas de pluie – Postponed to Sunday (1:30pm) if rainout
URL:https://asttq.net/en/event/expo-st-isidore-2021-samedi/
LOCATION:ST-ISIDORE-DE-BEAUCE\, QC\, 130 route Coulombe\, Saint-Isidore\, Québec\, GS2S0\, Canada
ATTACH;FMTTYPE=image/jpeg:https://asttq.net/wp-content/uploads/2017/05/10177930_232527250287185_3367822556484615112_n.jpg
END:VEVENT
BEGIN:VEVENT
DTSTART;TZID=America/Toronto:20210716T193000
DTEND;TZID=America/Toronto:20210716T193000
DTSTAMP:20260421T014107
CREATED:20210223T222429Z
LAST-MODIFIED:20210607T190845Z
UID:25792-1626463800-1626463800@asttq.net
SUMMARY:Expo St-Isidore 2021 (Vendredi)
DESCRIPTION:Toutes les classes sont non sanctionnées – All classes unsanctioned \ Remis au dimanche (13h30) en cas de pluie – Postponed to Sunday (1:30pm) if rainout
URL:https://asttq.net/en/event/expo-st-isidore-2021-vendredi/
LOCATION:ST-ISIDORE-DE-BEAUCE\, QC\, 130 route Coulombe\, Saint-Isidore\, Québec\, GS2S0\, Canada
ATTACH;FMTTYPE=image/jpeg:https://asttq.net/wp-content/uploads/2017/05/10177930_232527250287185_3367822556484615112_n.jpg
END:VEVENT
BEGIN:VEVENT
DTSTART;TZID=America/Toronto:20210710T000000
DTEND;TZID=America/Toronto:20210710T000000
DTSTAMP:20260421T014107
CREATED:20210223T222153Z
LAST-MODIFIED:20210419T001426Z
UID:25781-1625875200-1625875200@asttq.net
SUMMARY:Festival de Honfleur\, Bellechasse 2021
DESCRIPTION:Événement annulé et remis à l’an prochain (2022) / Event is cancelled and postponed to next year (2022)
URL:https://asttq.net/en/event/festival-de-honfleur-bellechasse-2021/
LOCATION:HONFLEUR\, QC\, 320 Rue Saint-Jean\, Honfleur\, Québec\, G0R 1N0\, Canada
ATTACH;FMTTYPE=image/jpeg:https://asttq.net/wp-content/uploads/2017/05/9261173.jpg
END:VEVENT
END:VCALENDAR