BEGIN:VCALENDAR
VERSION:2.0
PRODID:-//Association Sportive de Tire de Tracteurs du Québec - ECPv6.15.15//NONSGML v1.0//EN
CALSCALE:GREGORIAN
METHOD:PUBLISH
X-WR-CALNAME:Association Sportive de Tire de Tracteurs du Québec
X-ORIGINAL-URL:https://asttq.net/en/
X-WR-CALDESC:Events for Association Sportive de Tire de Tracteurs du Québec
REFRESH-INTERVAL;VALUE=DURATION:PT1H
X-Robots-Tag:noindex
X-PUBLISHED-TTL:PT1H
BEGIN:VTIMEZONE
TZID:America/Toronto
BEGIN:DAYLIGHT
TZOFFSETFROM:-0500
TZOFFSETTO:-0400
TZNAME:EDT
DTSTART:20160313T070000
END:DAYLIGHT
BEGIN:STANDARD
TZOFFSETFROM:-0400
TZOFFSETTO:-0500
TZNAME:EST
DTSTART:20161106T060000
END:STANDARD
BEGIN:DAYLIGHT
TZOFFSETFROM:-0500
TZOFFSETTO:-0400
TZNAME:EDT
DTSTART:20170312T070000
END:DAYLIGHT
BEGIN:STANDARD
TZOFFSETFROM:-0400
TZOFFSETTO:-0500
TZNAME:EST
DTSTART:20171105T060000
END:STANDARD
BEGIN:DAYLIGHT
TZOFFSETFROM:-0500
TZOFFSETTO:-0400
TZNAME:EDT
DTSTART:20180311T070000
END:DAYLIGHT
BEGIN:STANDARD
TZOFFSETFROM:-0400
TZOFFSETTO:-0500
TZNAME:EST
DTSTART:20181104T060000
END:STANDARD
BEGIN:DAYLIGHT
TZOFFSETFROM:-0500
TZOFFSETTO:-0400
TZNAME:EDT
DTSTART:20190310T070000
END:DAYLIGHT
BEGIN:STANDARD
TZOFFSETFROM:-0400
TZOFFSETTO:-0500
TZNAME:EST
DTSTART:20191103T060000
END:STANDARD
BEGIN:DAYLIGHT
TZOFFSETFROM:-0500
TZOFFSETTO:-0400
TZNAME:EDT
DTSTART:20200308T070000
END:DAYLIGHT
BEGIN:STANDARD
TZOFFSETFROM:-0400
TZOFFSETTO:-0500
TZNAME:EST
DTSTART:20201101T060000
END:STANDARD
END:VTIMEZONE
BEGIN:VEVENT
DTSTART;TZID=America/Toronto:20190713T190000
DTEND;TZID=America/Toronto:20190713T190000
DTSTAMP:20260423T062131
CREATED:20190128T191149Z
LAST-MODIFIED:20190222T132422Z
UID:14062-1563044400-1563044400@asttq.net
SUMMARY:Festival de Honfleur\, Bellechasse 2019
DESCRIPTION:(remis au 14 juillet si pluie\, postponed on July 14 if rainout)
URL:https://asttq.net/en/event/festival-de-honfleur-bellechasse-2019/
LOCATION:HONFLEUR\, QC\, 320 Rue Saint-Jean\, Honfleur\, Québec\, G0R 1N0\, Canada
ATTACH;FMTTYPE=image/jpeg:https://asttq.net/wp-content/uploads/2017/05/9261173.jpg
END:VEVENT
BEGIN:VEVENT
DTSTART;TZID=America/Toronto:20190706T183000
DTEND;TZID=America/Toronto:20190706T183000
DTSTAMP:20260423T062131
CREATED:20190128T181634Z
LAST-MODIFIED:20190421T014610Z
UID:14056-1562437800-1562437800@asttq.net
SUMMARY:Terrain d'exposition de Saint-Agapit 2019
DESCRIPTION:(remis au 7 juillet si pluie/ postponed on July 7 if rainout)
URL:https://asttq.net/en/?post_type=tribe_events&p=14057
LOCATION:ST-AGAPIT\, QC\, 1070 avenue Bergeron\, Saint-Agapit\, Québec\, G0S 1Z0\, Canada
ATTACH;FMTTYPE=image/jpeg:https://asttq.net/wp-content/uploads/2019/01/affiche.jpg
END:VEVENT
BEGIN:VEVENT
DTSTART;TZID=America/Toronto:20190629T183000
DTEND;TZID=America/Toronto:20190629T183000
DTSTAMP:20260423T062131
CREATED:20190128T175945Z
LAST-MODIFIED:20190408T194612Z
UID:14053-1561833000-1561833000@asttq.net
SUMMARY:CENTREVILLE SUPER POWER-PULL
DESCRIPTION:Location de traîne seulement/ Sled rental only\n(remis au 30 juin si pluie/ postponed on June 30 if rainout) \nÉvénement non sanctionné/ unsanctioned event (mini\, SST\, prostock\, profarm\, 4×4\, TWD)
URL:https://asttq.net/en/event/centreville-super-power-pull/
LOCATION:CENTREVILLE\, NB\, 698 Central Street\, Centreville\, Nouveau-Brunswick\, E7K 2M5\, Canada
END:VEVENT
BEGIN:VEVENT
DTSTART;TZID=America/Toronto:20190628T183000
DTEND;TZID=America/Toronto:20190628T183000
DTSTAMP:20260423T062131
CREATED:20190129T012151Z
LAST-MODIFIED:20190408T194652Z
UID:14082-1561746600-1561746600@asttq.net
SUMMARY:CENTREVILLE SUPER POWER-PULL
DESCRIPTION:Location de traîne seulement/ Sled rental only\n(remis au 30 juin si pluie/ postponed on June 30 if rainout) \nÉvénement non sanctionné/ unsanctioned event (mini\, SST\, prostock\, profarm\, 4×4\, TWD)
URL:https://asttq.net/en/event/centreville-super-power-pull-2/
LOCATION:CENTREVILLE\, NB\, 698 Central Street\, Centreville\, Nouveau-Brunswick\, E7K 2M5\, Canada
END:VEVENT
BEGIN:VEVENT
DTSTART;TZID=America/Toronto:20190616T100000
DTEND;TZID=America/Toronto:20190616T100000
DTSTAMP:20260423T062131
CREATED:20190128T173600Z
LAST-MODIFIED:20190408T194728Z
UID:14043-1560679200-1560679200@asttq.net
SUMMARY:GRAND FALLS TRUCK & TRACTOR PULL
DESCRIPTION:Location de traîne seulement/ Sled rental only \nÉvénement non sanctionné/ unsanctioned event (mini\, SST\, prostock\, profarm\, 4×4\, TWD)
URL:https://asttq.net/en/event/grand-falls-truck-tractor-pull/
LOCATION:GRAND FALLS\, NB\, 60 Rue Ouellette\, Grand-Sault\, Nouveau-Brunswick\, E3Z 1A6\, Canada
ATTACH;FMTTYPE=image/png:https://asttq.net/wp-content/uploads/2019/01/gfttp-logo-153x139.png
END:VEVENT
BEGIN:VEVENT
DTSTART;TZID=America/Toronto:20190615T100000
DTEND;TZID=America/Toronto:20190615T100000
DTSTAMP:20260423T062131
CREATED:20190129T012413Z
LAST-MODIFIED:20190408T194800Z
UID:14084-1560592800-1560592800@asttq.net
SUMMARY:GRAND FALLS TRUCK & TRACTOR PULL
DESCRIPTION:Location de traîne seulement/ Sled rental only \nÉvénement non sanctionné/ unsanctioned event (mini\, SST\, prostock\, profarm\, 4×4\, TWD)
URL:https://asttq.net/en/event/grand-falls-truck-tractor-pull-2/
LOCATION:GRAND FALLS\, NB\, 60 Rue Ouellette\, Grand-Sault\, Nouveau-Brunswick\, E3Z 1A6\, Canada
ATTACH;FMTTYPE=image/png:https://asttq.net/wp-content/uploads/2019/01/gfttp-logo-153x139.png
END:VEVENT
BEGIN:VEVENT
DTSTART;TZID=America/Toronto:20190608T180000
DTEND;TZID=America/Toronto:20190608T180000
DTSTAMP:20260423T062131
CREATED:20190128T170547Z
LAST-MODIFIED:20190129T014853Z
UID:14041-1560016800-1560016800@asttq.net
SUMMARY:Expo Ormstown 2019
DESCRIPTION:
URL:https://asttq.net/en/event/expo-ormstown-2019/
LOCATION:ORMSTOWN\, QC\, 1 Rue McBain\, Ormstown\, Québec\, J0S 1K0\, Canada
ATTACH;FMTTYPE=image/png:https://asttq.net/wp-content/uploads/2017/05/expoormstowndesjardins.png
END:VEVENT
BEGIN:VEVENT
DTSTART;TZID=America/Toronto:20180908T193000
DTEND;TZID=America/Toronto:20180908T193000
DTSTAMP:20260423T062131
CREATED:20180124T211209Z
LAST-MODIFIED:20180606T055959Z
UID:9896-1536435000-1536435000@asttq.net
SUMMARY:Expo Richmond 2018 (Samedi soir)
DESCRIPTION:
URL:https://asttq.net/en/event/expo-richmond-2017-samedi-2/
LOCATION:RICHMOND\, QC\, 128 Québec 143\, Cleveland\, Québec\, Canada
ATTACH;FMTTYPE=image/jpeg:https://asttq.net/wp-content/uploads/2017/05/titleonlyinjpgexport.jpg
END:VEVENT
BEGIN:VEVENT
DTSTART;TZID=America/Toronto:20180908T133000
DTEND;TZID=America/Toronto:20180908T133000
DTSTAMP:20260423T062131
CREATED:20180222T202343Z
LAST-MODIFIED:20180222T202343Z
UID:10066-1536413400-1536413400@asttq.net
SUMMARY:Expo Richmond 2018 (Samedi pm)
DESCRIPTION:
URL:https://asttq.net/en/?post_type=tribe_events&p=10067
LOCATION:RICHMOND\, QC\, 128 Québec 143\, Cleveland\, Québec\, Canada
ATTACH;FMTTYPE=image/jpeg:https://asttq.net/wp-content/uploads/2017/05/titleonlyinjpgexport.jpg
END:VEVENT
BEGIN:VEVENT
DTSTART;TZID=America/Toronto:20180901T190000
DTEND;TZID=America/Toronto:20180901T190000
DTSTAMP:20260423T062131
CREATED:20180126T164029Z
LAST-MODIFIED:20180319T221605Z
UID:9861-1535828400-1535828400@asttq.net
SUMMARY:Expo de Brome 2018
DESCRIPTION:
URL:https://asttq.net/en/event/expo-de-brome-2017-2/
LOCATION:BROME\, QC\, 345 Chemin Stagecoach\, Knowlton\, Québec\, J0E 1V0\, Canada
ATTACH;FMTTYPE=image/png:https://asttq.net/wp-content/uploads/2017/05/bromefair-logo33.png
END:VEVENT
BEGIN:VEVENT
DTSTART;TZID=America/Toronto:20180826T190000
DTEND;TZID=America/Toronto:20180826T190000
DTSTAMP:20260423T062131
CREATED:20180126T164145Z
LAST-MODIFIED:20180315T204727Z
UID:9862-1535310000-1535310000@asttq.net
SUMMARY:Expo Ayer’s Cliff 2018
DESCRIPTION:
URL:https://asttq.net/en/event/expo-ayers-cliff-2017-2/
LOCATION:AYER’S CLIFF\, QC\, 977 Rue Main\, Ayer's Cliff\, Québec\, J0B 1C0\, Canada
ATTACH;FMTTYPE=image/jpeg:https://asttq.net/wp-content/uploads/2017/05/fond_menu_entete.jpg
END:VEVENT
BEGIN:VEVENT
DTSTART;TZID=America/Toronto:20180825T130000
DTEND;TZID=America/Toronto:20180825T130000
DTSTAMP:20260423T062131
CREATED:20180126T164232Z
LAST-MODIFIED:20180417T224730Z
UID:9863-1535202000-1535202000@asttq.net
SUMMARY:Truck’N Roll en Coeur 2018
DESCRIPTION:
URL:https://asttq.net/en/event/truckn-roll-en-coeur-2017-2/
LOCATION:BEDFORD\, QC\, 16 Rue Philippe Côté\, Bedford\, Québec\, J0J 1A0\, Canada
ATTACH;FMTTYPE=image/png:https://asttq.net/wp-content/uploads/2017/05/trucknroll-logo.png
END:VEVENT
BEGIN:VEVENT
DTSTART;TZID=America/Toronto:20180818T193000
DTEND;TZID=America/Toronto:20180818T193000
DTSTAMP:20260423T062131
CREATED:20180214T164708Z
LAST-MODIFIED:20180606T035520Z
UID:10035-1534620600-1534620600@asttq.net
SUMMARY:Expo Cookshire 2018
DESCRIPTION:
URL:https://asttq.net/en/event/expo-cookshire-2018/
LOCATION:COOKSHIRE\, QC\, 580 QC-108\, Cookshire-Eaton\, Québec\, J0B 1M0\, Canada
ATTACH;FMTTYPE=image/png:https://asttq.net/wp-content/uploads/2017/05/logocookshirerond190x125.png
END:VEVENT
BEGIN:VEVENT
DTSTART;TZID=America/Toronto:20180811T183000
DTEND;TZID=America/Toronto:20180811T183000
DTSTAMP:20260423T062131
CREATED:20180126T164644Z
LAST-MODIFIED:20180812T150701Z
UID:9866-1534012200-1534012200@asttq.net
SUMMARY:Foire de Huntingdon 2018 (Samedi)
DESCRIPTION:
URL:https://asttq.net/en/event/foire-de-huntingdon-2017-samedi-2/
LOCATION:HUNTINGDON\, QC\, 1565 Chemin Fairview\, Huntingdon\, Québec\, J0S 1H0\, Canada
ATTACH;FMTTYPE=image/png:https://asttq.net/wp-content/uploads/2017/05/fair-logo2016-175px.png
END:VEVENT
BEGIN:VEVENT
DTSTART;TZID=America/Toronto:20180810T193000
DTEND;TZID=America/Toronto:20180810T193000
DTSTAMP:20260423T062131
CREATED:20180126T165230Z
LAST-MODIFIED:20180812T150702Z
UID:9867-1533929400-1533929400@asttq.net
SUMMARY:Foire de Huntingdon 2018(Vendredi)
DESCRIPTION:
URL:https://asttq.net/en/event/foire-de-huntingdon-2017-2/
LOCATION:HUNTINGDON\, QC\, 1565 Chemin Fairview\, Huntingdon\, Québec\, J0S 1H0\, Canada
ATTACH;FMTTYPE=image/png:https://asttq.net/wp-content/uploads/2017/05/fair-logo2016-175px.png
END:VEVENT
BEGIN:VEVENT
DTSTART;TZID=America/Toronto:20180804T123000
DTEND;TZID=America/Toronto:20180804T123000
DTSTAMP:20260423T062131
CREATED:20180126T170827Z
LAST-MODIFIED:20180812T150702Z
UID:9919-1533385800-1533385800@asttq.net
SUMMARY:Festival du Maïs 2018 (samedi)
DESCRIPTION:
URL:https://asttq.net/en/event/festival-du-mais-2017-3/
LOCATION:ST-DAMASE\, QC\, 105 rue Sainte-Anne\, St-Damase\, Québec\, j0h 1j0\, Canada
ATTACH;FMTTYPE=image/png:https://asttq.net/wp-content/uploads/2017/05/siteon0.png
END:VEVENT
BEGIN:VEVENT
DTSTART;TZID=America/Toronto:20180803T183000
DTEND;TZID=America/Toronto:20180803T183000
DTSTAMP:20260423T062131
CREATED:20180126T170650Z
LAST-MODIFIED:20180812T150702Z
UID:9920-1533321000-1533321000@asttq.net
SUMMARY:Festival du Maïs 2018 (vendredi)
DESCRIPTION:
URL:https://asttq.net/en/event/festival-du-mais-2017-2/
LOCATION:ST-DAMASE\, QC\, 105 rue Sainte-Anne\, St-Damase\, Québec\, j0h 1j0\, Canada
ATTACH;FMTTYPE=image/png:https://asttq.net/wp-content/uploads/2017/05/siteon0.png
END:VEVENT
BEGIN:VEVENT
DTSTART;TZID=America/Toronto:20180801T183000
DTEND;TZID=America/Toronto:20180801T183000
DTSTAMP:20260423T062131
CREATED:20180126T171103Z
LAST-MODIFIED:20180417T142542Z
UID:9870-1533148200-1533148200@asttq.net
SUMMARY:Expo St-Hyacinthe 2018 (Mercredi)
DESCRIPTION:
URL:https://asttq.net/en/event/expo-st-hyacinthe-2017-mercredi-2/
LOCATION:SAINT-HYACINTHE\, QC\, 2670\, avenue Beauparlant\, Saint-Hyacinthe\, Québec\, J2S 4M8\, Canada
ATTACH;FMTTYPE=image/png:https://asttq.net/wp-content/uploads/2017/05/expo-agricole-logo.png
END:VEVENT
BEGIN:VEVENT
DTSTART;TZID=America/Toronto:20180731T183000
DTEND;TZID=America/Toronto:20180731T183000
DTSTAMP:20260423T062131
CREATED:20180126T171221Z
LAST-MODIFIED:20180417T142425Z
UID:9871-1533061800-1533061800@asttq.net
SUMMARY:Expo St-Hyacinthe 2018 (Mardi)
DESCRIPTION:
URL:https://asttq.net/en/event/expo-st-hyacinthe-2017-mardi-2/
LOCATION:SAINT-HYACINTHE\, QC\, 2670\, avenue Beauparlant\, Saint-Hyacinthe\, Québec\, J2S 4M8\, Canada
ATTACH;FMTTYPE=image/png:https://asttq.net/wp-content/uploads/2017/05/expo-agricole-logo.png
END:VEVENT
BEGIN:VEVENT
DTSTART;TZID=America/Toronto:20180730T183000
DTEND;TZID=America/Toronto:20180730T183000
DTSTAMP:20260423T062131
CREATED:20180126T171400Z
LAST-MODIFIED:20180417T142255Z
UID:9872-1532975400-1532975400@asttq.net
SUMMARY:Expo St-Hyacinthe 2018 (Lundi)
DESCRIPTION:
URL:https://asttq.net/en/event/expo-st-hyacinthe-2017-lundi-2/
LOCATION:SAINT-HYACINTHE\, QC\, 2670\, avenue Beauparlant\, Saint-Hyacinthe\, Québec\, J2S 4M8\, Canada
ATTACH;FMTTYPE=image/png:https://asttq.net/wp-content/uploads/2017/05/expo-agricole-logo.png
END:VEVENT
BEGIN:VEVENT
DTSTART;TZID=America/Toronto:20180722T183000
DTEND;TZID=America/Toronto:20180722T183000
DTSTAMP:20260423T062131
CREATED:20180126T171702Z
LAST-MODIFIED:20180302T010454Z
UID:9874-1532284200-1532284200@asttq.net
SUMMARY:Expo St-Isidore 2018 (Dimanche)
DESCRIPTION:
URL:https://asttq.net/en/event/expo-st-isidore-2017-dimanche-2/
LOCATION:ST-ISIDORE DE BEAUCE\, QC\, 130 Rue Coulombe\, Saint-Isidore\, Québec\, G0S 2S0\, Canada
ATTACH;FMTTYPE=image/jpeg:https://asttq.net/wp-content/uploads/2017/05/10177930_232527250287185_3367822556484615112_n.jpg
END:VEVENT
BEGIN:VEVENT
DTSTART;TZID=America/Toronto:20180721T183000
DTEND;TZID=America/Toronto:20180721T183000
DTSTAMP:20260423T062131
CREATED:20180126T171824Z
LAST-MODIFIED:20180222T223020Z
UID:9875-1532197800-1532197800@asttq.net
SUMMARY:Expo St-Isidore 2018 (Samedi)
DESCRIPTION:
URL:https://asttq.net/en/event/expo-st-isidore-2017-samedi-2/
LOCATION:ST-ISIDORE DE BEAUCE\, QC\, 130 Rue Coulombe\, Saint-Isidore\, Québec\, G0S 2S0\, Canada
ATTACH;FMTTYPE=image/jpeg:https://asttq.net/wp-content/uploads/2017/05/10177930_232527250287185_3367822556484615112_n.jpg
END:VEVENT
BEGIN:VEVENT
DTSTART;TZID=America/Toronto:20180720T193000
DTEND;TZID=America/Toronto:20180720T193000
DTSTAMP:20260423T062131
CREATED:20180126T172037Z
LAST-MODIFIED:20180222T223149Z
UID:9876-1532115000-1532115000@asttq.net
SUMMARY:Expo St-Isidore 2018 (Vendredi)
DESCRIPTION:
URL:https://asttq.net/en/event/expo-st-isidore-2017-vendredi-2/
LOCATION:ST-ISIDORE DE BEAUCE\, QC\, 130 Rue Coulombe\, Saint-Isidore\, Québec\, G0S 2S0\, Canada
ATTACH;FMTTYPE=image/jpeg:https://asttq.net/wp-content/uploads/2017/05/10177930_232527250287185_3367822556484615112_n.jpg
END:VEVENT
BEGIN:VEVENT
DTSTART;TZID=America/Toronto:20180714T190000
DTEND;TZID=America/Toronto:20180714T190000
DTSTAMP:20260423T062131
CREATED:20180126T172215Z
LAST-MODIFIED:20180228T174434Z
UID:9877-1531594800-1531594800@asttq.net
SUMMARY:Festival de Honfleur\, Bellechasse 2018
DESCRIPTION:Remis au 15 juillet en cas de pluie/ In case of rain\, postponed to July 15
URL:https://asttq.net/en/event/festival-de-honfleur-bellechasse-2017-2/
LOCATION:HONFLEUR\, QC\, 320 Rue Saint-Jean\, Honfleur\, Québec\, G0R 1N0\, Canada
ATTACH;FMTTYPE=image/jpeg:https://asttq.net/wp-content/uploads/2017/05/9261173.jpg
END:VEVENT
BEGIN:VEVENT
DTSTART;TZID=America/Toronto:20180707T000000
DTEND;TZID=America/Toronto:20180707T000000
DTSTAMP:20260423T062131
CREATED:20180126T172346Z
LAST-MODIFIED:20180428T020951Z
UID:9878-1530921600-1530921600@asttq.net
SUMMARY:Tire de camions de Gatineau 2018 (Samedi)
DESCRIPTION:ANNULÉ PAR LE PROMOTEUR/ CANCELLED BY PROMOTER
URL:https://asttq.net/en/event/tire-de-camions-internationale-de-gatineau-2017-dimanche-2/
LOCATION:GATINEAU AIRPORT\, 1717\, RUE ARTHUR-FECTEAU\, GATINEAU\, Québec\, J8R 2Z9\, Canada
ATTACH;FMTTYPE=image/png:https://asttq.net/wp-content/uploads/2017/05/logo_tiredecamionsgatineautruckpull.png
END:VEVENT
BEGIN:VEVENT
DTSTART;TZID=America/Toronto:20180706T000000
DTEND;TZID=America/Toronto:20180706T000000
DTSTAMP:20260423T062131
CREATED:20180126T172512Z
LAST-MODIFIED:20180428T021127Z
UID:9879-1530835200-1530835200@asttq.net
SUMMARY:Tire de camions de Gatineau 2018 (Vendredi)
DESCRIPTION:ANNULÉ PAR LE PROMOTEUR/ CANCELLED BY PROMOTER
URL:https://asttq.net/en/event/tire-de-camions-internationale-de-gatineau-2/
LOCATION:GATINEAU AIRPORT\, 1717\, RUE ARTHUR-FECTEAU\, GATINEAU\, Québec\, J8R 2Z9\, Canada
ATTACH;FMTTYPE=image/png:https://asttq.net/wp-content/uploads/2017/05/logo_tiredecamionsgatineautruckpull.png
END:VEVENT
BEGIN:VEVENT
DTSTART;TZID=America/Toronto:20180623T133000
DTEND;TZID=America/Toronto:20180623T133000
DTSTAMP:20260423T062131
CREATED:20180126T172646Z
LAST-MODIFIED:20180313T104031Z
UID:9882-1529760600-1529760600@asttq.net
SUMMARY:Festival D’été des Collines 2018
DESCRIPTION:Remis au 24 juin en cas de pluie/ In case of rain\, postponed to June 24
URL:https://asttq.net/en/event/festival-dete-des-collines-2/
LOCATION:PARC DES LOUPS\, LA PÊCHE\, QC\, 8 Chemin Lionel-Beausoleil\, Lac-des-Loups\, Québec\, J0X 3K0\, Canada
ATTACH;FMTTYPE=image/jpeg:https://asttq.net/wp-content/uploads/2017/05/festival-ete-collines.jpg
END:VEVENT
BEGIN:VEVENT
DTSTART;TZID=America/Toronto:20180609T180000
DTEND;TZID=America/Toronto:20180609T180000
DTSTAMP:20260423T062131
CREATED:20180126T173003Z
LAST-MODIFIED:20180126T174806Z
UID:9883-1528567200-1528567200@asttq.net
SUMMARY:Expo Ormstown 2018
DESCRIPTION:
URL:https://asttq.net/en/event/expo-ormstown-2017-2/
LOCATION:ORMSTOWN\, QC\, 1 Rue McBain\, Ormstown\, Québec\, J0S 1K0\, Canada
ATTACH;FMTTYPE=image/png:https://asttq.net/wp-content/uploads/2017/05/expoormstowndesjardins.png
END:VEVENT
BEGIN:VEVENT
DTSTART;TZID=America/Toronto:20170909T193000
DTEND;TZID=America/Toronto:20170909T223000
DTSTAMP:20260423T062131
CREATED:20170818T041150Z
LAST-MODIFIED:20170818T041150Z
UID:8563-1504985400-1504996200@asttq.net
SUMMARY:Expo Richmond 2017 (Samedi soir)
DESCRIPTION:
URL:https://asttq.net/en/event/expo-richmond-2017-samedi-soir/
LOCATION:RICHMOND\, QC\, 128 Québec 143\, Cleveland\, Québec\, Canada
END:VEVENT
BEGIN:VEVENT
DTSTART;TZID=America/Toronto:20170909T140000
DTEND;TZID=America/Toronto:20170909T223000
DTSTAMP:20260423T062131
CREATED:20170818T041143Z
LAST-MODIFIED:20170818T041143Z
UID:8562-1504965600-1504996200@asttq.net
SUMMARY:Expo Richmond 2017 (Samedi PM)
DESCRIPTION:
URL:https://asttq.net/en/event/expo-richmond-2017-samedi-pm/
LOCATION:RICHMOND\, QC\, 128 Québec 143\, Cleveland\, Québec\, Canada
END:VEVENT
END:VCALENDAR