BEGIN:VCALENDAR
VERSION:2.0
PRODID:-//Association Sportive de Tire de Tracteurs du Québec - ECPv6.15.15//NONSGML v1.0//EN
CALSCALE:GREGORIAN
METHOD:PUBLISH
X-ORIGINAL-URL:https://asttq.net/en/
X-WR-CALDESC:Events for Association Sportive de Tire de Tracteurs du Québec
REFRESH-INTERVAL;VALUE=DURATION:PT1H
X-Robots-Tag:noindex
X-PUBLISHED-TTL:PT1H
BEGIN:VTIMEZONE
TZID:America/Toronto
BEGIN:DAYLIGHT
TZOFFSETFROM:-0500
TZOFFSETTO:-0400
TZNAME:EDT
DTSTART:20230312T070000
END:DAYLIGHT
BEGIN:STANDARD
TZOFFSETFROM:-0400
TZOFFSETTO:-0500
TZNAME:EST
DTSTART:20231105T060000
END:STANDARD
BEGIN:DAYLIGHT
TZOFFSETFROM:-0500
TZOFFSETTO:-0400
TZNAME:EDT
DTSTART:20240310T070000
END:DAYLIGHT
BEGIN:STANDARD
TZOFFSETFROM:-0400
TZOFFSETTO:-0500
TZNAME:EST
DTSTART:20241103T060000
END:STANDARD
BEGIN:DAYLIGHT
TZOFFSETFROM:-0500
TZOFFSETTO:-0400
TZNAME:EDT
DTSTART:20250309T070000
END:DAYLIGHT
BEGIN:STANDARD
TZOFFSETFROM:-0400
TZOFFSETTO:-0500
TZNAME:EST
DTSTART:20251102T060000
END:STANDARD
END:VTIMEZONE
BEGIN:VEVENT
DTSTART;TZID=America/Toronto:20240831T160000
DTEND;TZID=America/Toronto:20240831T160000
DTSTAMP:20260419T133651
CREATED:20240423T212637Z
LAST-MODIFIED:20240423T213151Z
UID:71729-1725120000-1725120000@asttq.net
SUMMARY:Antigonish Truck & Tractor Pull (Saturday)
DESCRIPTION:Location d’équipement – Sled rental
URL:https://asttq.net/en/event/antigonish-truck-tractor-pull/
LOCATION:Antigonish\, 50 market st\, Antigonish\, NS\, B2G 3B4\, Canada
END:VEVENT
BEGIN:VEVENT
DTSTART;TZID=America/Toronto:20240831T190000
DTEND;TZID=America/Toronto:20240831T190000
DTSTAMP:20260419T133651
CREATED:20240409T191247Z
LAST-MODIFIED:20240409T191247Z
UID:71581-1725130800-1725130800@asttq.net
SUMMARY:Expo Brome 2024
DESCRIPTION:
URL:https://asttq.net/en/event/expo-brome-2024/
LOCATION:BROME\, QC\, 345 Chemin Stagecoach\, Knowlton\, Québec\, J0E 1V0\, Canada
END:VEVENT
END:VCALENDAR