BEGIN:VCALENDAR
VERSION:2.0
PRODID:-//Association Sportive de Tire de Tracteurs du Québec - ECPv6.15.15//NONSGML v1.0//EN
CALSCALE:GREGORIAN
METHOD:PUBLISH
X-WR-CALNAME:Association Sportive de Tire de Tracteurs du Québec
X-ORIGINAL-URL:https://asttq.net/en/
X-WR-CALDESC:Events for Association Sportive de Tire de Tracteurs du Québec
REFRESH-INTERVAL;VALUE=DURATION:PT1H
X-Robots-Tag:noindex
X-PUBLISHED-TTL:PT1H
BEGIN:VTIMEZONE
TZID:America/Toronto
BEGIN:DAYLIGHT
TZOFFSETFROM:-0500
TZOFFSETTO:-0400
TZNAME:EDT
DTSTART:20230312T070000
END:DAYLIGHT
BEGIN:STANDARD
TZOFFSETFROM:-0400
TZOFFSETTO:-0500
TZNAME:EST
DTSTART:20231105T060000
END:STANDARD
BEGIN:DAYLIGHT
TZOFFSETFROM:-0500
TZOFFSETTO:-0400
TZNAME:EDT
DTSTART:20240310T070000
END:DAYLIGHT
BEGIN:STANDARD
TZOFFSETFROM:-0400
TZOFFSETTO:-0500
TZNAME:EST
DTSTART:20241103T060000
END:STANDARD
BEGIN:DAYLIGHT
TZOFFSETFROM:-0500
TZOFFSETTO:-0400
TZNAME:EDT
DTSTART:20250309T070000
END:DAYLIGHT
BEGIN:STANDARD
TZOFFSETFROM:-0400
TZOFFSETTO:-0500
TZNAME:EST
DTSTART:20251102T060000
END:STANDARD
END:VTIMEZONE
BEGIN:VEVENT
DTSTART;TZID=America/Toronto:20240816T190000
DTEND;TZID=America/Toronto:20240816T190000
DTSTAMP:20260419T135100
CREATED:20240226T235155Z
LAST-MODIFIED:20240407T211156Z
UID:69398-1723834800-1723834800@asttq.net
SUMMARY:Expo Cookshire 2024 (Vendredi)
DESCRIPTION:
URL:https://asttq.net/en/event/expo-cookshire-2023-samedi-2/
LOCATION:COOKSHIRE\, QC\, 580 QC-108\, Cookshire-Eaton\, Québec\, J0B 1M0\, Canada
ATTACH;FMTTYPE=image/png:https://asttq.net/wp-content/uploads/2017/05/logocookshirerond190x125.png
END:VEVENT
END:VCALENDAR