BEGIN:VCALENDAR
VERSION:2.0
PRODID:-//Association Sportive de Tire de Tracteurs du Québec - ECPv6.15.15//NONSGML v1.0//EN
CALSCALE:GREGORIAN
METHOD:PUBLISH
X-ORIGINAL-URL:https://asttq.net/en/
X-WR-CALDESC:Events for Association Sportive de Tire de Tracteurs du Québec
REFRESH-INTERVAL;VALUE=DURATION:PT1H
X-Robots-Tag:noindex
X-PUBLISHED-TTL:PT1H
BEGIN:VTIMEZONE
TZID:America/Toronto
BEGIN:DAYLIGHT
TZOFFSETFROM:-0500
TZOFFSETTO:-0400
TZNAME:EDT
DTSTART:20220313T070000
END:DAYLIGHT
BEGIN:STANDARD
TZOFFSETFROM:-0400
TZOFFSETTO:-0500
TZNAME:EST
DTSTART:20221106T060000
END:STANDARD
BEGIN:DAYLIGHT
TZOFFSETFROM:-0500
TZOFFSETTO:-0400
TZNAME:EDT
DTSTART:20230312T070000
END:DAYLIGHT
BEGIN:STANDARD
TZOFFSETFROM:-0400
TZOFFSETTO:-0500
TZNAME:EST
DTSTART:20231105T060000
END:STANDARD
BEGIN:DAYLIGHT
TZOFFSETFROM:-0500
TZOFFSETTO:-0400
TZNAME:EDT
DTSTART:20240310T070000
END:DAYLIGHT
BEGIN:STANDARD
TZOFFSETFROM:-0400
TZOFFSETTO:-0500
TZNAME:EST
DTSTART:20241103T060000
END:STANDARD
END:VTIMEZONE
BEGIN:VEVENT
DTSTART;TZID=America/Toronto:20230715T100000
DTEND;TZID=America/Toronto:20230715T170000
DTSTAMP:20260420T023456
CREATED:20230424T165547Z
LAST-MODIFIED:20230424T173739Z
UID:62090-1689415200-1689440400@asttq.net
SUMMARY:WOODSTOCK N.B.
DESCRIPTION:Location de machine de transfert Stress Relief  – Stress Relief sled rental
URL:https://asttq.net/en/event/woodstock-n-b-2/
LOCATION:Woodstock N.B.\, Woodstock\, Nouveau-Brunswick\, Canada
END:VEVENT
BEGIN:VEVENT
DTSTART;TZID=America/Toronto:20230715T190000
DTEND;TZID=America/Toronto:20230715T190000
DTSTAMP:20260420T023456
CREATED:20230306T173047Z
LAST-MODIFIED:20230613T010727Z
UID:60726-1689447600-1689447600@asttq.net
SUMMARY:Festival de Honfleur\, Bellechasse 2023
DESCRIPTION:
URL:https://asttq.net/en/event/festival-de-honfleur-bellechasse-2023/
LOCATION:HONFLEUR\, QC\, 320 Rue Saint-Jean\, Honfleur\, Québec\, G0R 1N0\, Canada
ATTACH;FMTTYPE=image/jpeg:https://asttq.net/wp-content/uploads/2017/05/9261173.jpg
END:VEVENT
END:VCALENDAR