BEGIN:VCALENDAR
VERSION:2.0
PRODID:-//Association Sportive de Tire de Tracteurs du Québec - ECPv6.15.15//NONSGML v1.0//EN
CALSCALE:GREGORIAN
METHOD:PUBLISH
X-ORIGINAL-URL:https://asttq.net/en/
X-WR-CALDESC:Events for Association Sportive de Tire de Tracteurs du Québec
REFRESH-INTERVAL;VALUE=DURATION:PT1H
X-Robots-Tag:noindex
X-PUBLISHED-TTL:PT1H
BEGIN:VTIMEZONE
TZID:America/Toronto
BEGIN:DAYLIGHT
TZOFFSETFROM:-0500
TZOFFSETTO:-0400
TZNAME:EDT
DTSTART:20210314T070000
END:DAYLIGHT
BEGIN:STANDARD
TZOFFSETFROM:-0400
TZOFFSETTO:-0500
TZNAME:EST
DTSTART:20211107T060000
END:STANDARD
BEGIN:DAYLIGHT
TZOFFSETFROM:-0500
TZOFFSETTO:-0400
TZNAME:EDT
DTSTART:20220313T070000
END:DAYLIGHT
BEGIN:STANDARD
TZOFFSETFROM:-0400
TZOFFSETTO:-0500
TZNAME:EST
DTSTART:20221106T060000
END:STANDARD
BEGIN:DAYLIGHT
TZOFFSETFROM:-0500
TZOFFSETTO:-0400
TZNAME:EDT
DTSTART:20230312T070000
END:DAYLIGHT
BEGIN:STANDARD
TZOFFSETFROM:-0400
TZOFFSETTO:-0500
TZNAME:EST
DTSTART:20231105T060000
END:STANDARD
END:VTIMEZONE
BEGIN:VEVENT
DTSTART;TZID=America/Toronto:20220806T153000
DTEND;TZID=America/Toronto:20220806T153000
DTSTAMP:20260420T180243
CREATED:20220105T150211Z
LAST-MODIFIED:20220111T201011Z
UID:39120-1659799800-1659799800@asttq.net
SUMMARY:PEI Truck and Tractor Pull - Crapaud 2022 (samedi)
DESCRIPTION:Location de machine de transfert Iron Man seulement  – Iron Man sled rental only. Remis au 7 août en cas de pluie – Postponed to August 7 if rainout. Classes cédulées ici\, classes scheduled here. 
URL:https://asttq.net/en/event/pei-truck-and-tractor-pull-crapaud-2022-2/
LOCATION:CRAPAUD\, IPÉ\, 20591 Rte Transcanadienne\, Crapaud\, Ile-du-Prince-Édouard\, C0A 1J0\, Canada
END:VEVENT
END:VCALENDAR