BEGIN:VCALENDAR
VERSION:2.0
PRODID:-//Association Sportive de Tire de Tracteurs du Québec - ECPv6.15.15//NONSGML v1.0//EN
CALSCALE:GREGORIAN
METHOD:PUBLISH
X-ORIGINAL-URL:https://asttq.net/en/
X-WR-CALDESC:Events for Association Sportive de Tire de Tracteurs du Québec
REFRESH-INTERVAL;VALUE=DURATION:PT1H
X-Robots-Tag:noindex
X-PUBLISHED-TTL:PT1H
BEGIN:VTIMEZONE
TZID:America/Toronto
BEGIN:DAYLIGHT
TZOFFSETFROM:-0500
TZOFFSETTO:-0400
TZNAME:EDT
DTSTART:20180311T070000
END:DAYLIGHT
BEGIN:STANDARD
TZOFFSETFROM:-0400
TZOFFSETTO:-0500
TZNAME:EST
DTSTART:20181104T060000
END:STANDARD
BEGIN:DAYLIGHT
TZOFFSETFROM:-0500
TZOFFSETTO:-0400
TZNAME:EDT
DTSTART:20190310T070000
END:DAYLIGHT
BEGIN:STANDARD
TZOFFSETFROM:-0400
TZOFFSETTO:-0500
TZNAME:EST
DTSTART:20191103T060000
END:STANDARD
BEGIN:DAYLIGHT
TZOFFSETFROM:-0500
TZOFFSETTO:-0400
TZNAME:EDT
DTSTART:20200308T070000
END:DAYLIGHT
BEGIN:STANDARD
TZOFFSETFROM:-0400
TZOFFSETTO:-0500
TZNAME:EST
DTSTART:20201101T060000
END:STANDARD
END:VTIMEZONE
BEGIN:VEVENT
DTSTART;TZID=America/Toronto:20190825T190000
DTEND;TZID=America/Toronto:20190825T190000
DTSTAMP:20260423T022230
CREATED:20190129T013947Z
LAST-MODIFIED:20190309T165933Z
UID:14095-1566759600-1566759600@asttq.net
SUMMARY:Expo Ayer’s Cliff 2019
DESCRIPTION:
URL:https://asttq.net/en/event/expo-ayers-cliff-2019/
LOCATION:AYER’S CLIFF\, QC\, 977 Rue Main\, Ayer's Cliff\, Québec\, J0B 1C0\, Canada
ATTACH;FMTTYPE=image/jpeg:https://asttq.net/wp-content/uploads/2017/05/fond_menu_entete.jpg
END:VEVENT
END:VCALENDAR